BEGIN:VCALENDAR
VERSION:2.0
PRODID:-//wp-events-plugin.com//7.2.3.1//EN
TZID:America/Chicago
X-WR-TIMEZONE:America/Chicago
BEGIN:VEVENT
UID:3796@dev.dscc.uic.edu
DTSTART;TZID=America/Chicago:20240127T083000
DTEND;TZID=America/Chicago:20240127T103000
DTSTAMP:20240104T233720Z
URL:https://dev.dscc.uic.edu/events/sensory-friendly-morning-at-the-city-m
 useum-in-st-louis/
SUMMARY:Sensory-Friendly Morning at the City Museum in St. Louis
DESCRIPTION:A sensory-friendly event for people of all ages with autism and
  sensory processing disorders\n\nJoin Easterseals Midwest for "Sensory-Fri
 endly Morning at the City Museum" on Jan. 27 from 8:30 to 10:30 a.m.\n\nCl
 imb\, slide\, jump and play in the many unique areas the City Museum has t
 o offer!\n\nThe event is open to people of all ages with autism and sensor
 y processing disorders. To make the event as sensory-friendly as possible
 :\n\n 	The museum will adjust lighting and audio where possible.\n 	Traine
 d Easterseals staff will be on hand.\n 	There will be a limit on the numbe
 r of people allowed in.\n\nIndividuals will have access to a calming space
  on the second floor. Noise-canceling headphones are recommended for peopl
 e sensitive to sounds.\n\nChildren must have adult supervision during the 
 event. The fourth floor\, MonstroCity\, gift shops\, and food/beverage sta
 nds will be closed.\n\nAdmission is $1 for anyone age 3 and older.\n\nRegi
 ster online on the Easterseals Midwest website. Registration is recommende
 d.\n\nComplimentary parking will be available until 9:30 a.m. in the City 
 Museum lot. After 9:30 a.m.\, parking will be $15 per vehicle.
CATEGORIES:Special Event
LOCATION:City Museum\, 750 North 16th St. \, St. Louis\, Missouri\, 63103\,
  United States
X-APPLE-STRUCTURED-LOCATION;VALUE=URI;X-ADDRESS=750 North 16th St. \, St. L
 ouis\, Missouri\, 63103\, United States;X-APPLE-RADIUS=100;X-TITLE=City Mu
 seum:geo:0,0
END:VEVENT
BEGIN:VTIMEZONE
TZID:America/Chicago
X-LIC-LOCATION:America/Chicago
BEGIN:STANDARD
DTSTART:20231105T010000
TZOFFSETFROM:-0500
TZOFFSETTO:-0600
TZNAME:CST
END:STANDARD
END:VTIMEZONE
END:VCALENDAR