BEGIN:VCALENDAR
VERSION:2.0
PRODID:-//wp-events-plugin.com//7.2.3.1//EN
TZID:America/Chicago
X-WR-TIMEZONE:America/Chicago
BEGIN:VEVENT
UID:2519@dev.dscc.uic.edu
DTSTART;TZID=America/Chicago:20220813T180000
DTEND;TZID=America/Chicago:20220813T200000
DTSTAMP:20220707T153209Z
URL:https://dev.dscc.uic.edu/events/sensory-friendly-night-and-back-to-sch
 ool-event-at-the-zoo-in-springfield/
SUMMARY:Sensory-Friendly Night and Back-to-School Event at the Zoo in Sprin
 gfield
DESCRIPTION:A free\, sensory-friendly night at the zoo and back-to-school e
 vent for children with autism and their families\n\nAutism Support of Cent
 ral Illinois (ASCI) is hosting a "Sensory Friendly Night &amp\; Back to Sc
 hool Event at Henson Robinson Zoo" on Aug. 13 from 6 to 8 p.m.\n\nASCI boa
 rd members will hand out backpacks (while supplies last) to make sure ever
 yone is ready to head back to school.\n\nFamilies may also enjoy riding th
 e train between 6:30 and 7:30 p.m.\n\nAdmission is free for children with 
 autism and their families. Registration is required.\n\nSign up online to 
 attend.
CATEGORIES:Special Event
LOCATION:Henson Robinson Zoo\, 1100 E. Lake Shore Dr.\, Springfield\, IL\, 
 62712\, United States
X-APPLE-STRUCTURED-LOCATION;VALUE=URI;X-ADDRESS=1100 E. Lake Shore Dr.\, Sp
 ringfield\, IL\, 62712\, United States;X-APPLE-RADIUS=100;X-TITLE=Henson R
 obinson Zoo:geo:0,0
END:VEVENT
BEGIN:VTIMEZONE
TZID:America/Chicago
X-LIC-LOCATION:America/Chicago
BEGIN:DAYLIGHT
DTSTART:20220313T030000
TZOFFSETFROM:-0600
TZOFFSETTO:-0500
TZNAME:CDT
END:DAYLIGHT
END:VTIMEZONE
END:VCALENDAR