BEGIN:VCALENDAR
VERSION:2.0
PRODID:-//wp-events-plugin.com//7.2.3.1//EN
TZID:America/Chicago
X-WR-TIMEZONE:America/Chicago
BEGIN:VEVENT
UID:5664@dev.dscc.uic.edu
DTSTART;TZID=America/Chicago:20250816T183000
DTEND;TZID=America/Chicago:20250816T203000
DTSTAMP:20250808T132328Z
URL:https://dev.dscc.uic.edu/events/sensory-friendly-swim-at-the-aquatic-z
 oo-in-mount-vernon/
SUMMARY:Sensory-Friendly Swim at the Aquatic Zoo in Mount Vernon
DESCRIPTION:Enjoy a sensory-friendly evening of fun\, connection and relaxa
 tion\nJoin the Autism Society Southern Illinois for a &#8220\;Sensory-Frie
 ndly Swim Event&#8221\; on Aug. 16 from 6:30 to 8:30 p.m.\nFamilies of chi
 ldren with autism and other sensory sensitivities can enjoy an evening of 
 fun\, connection and relaxation.\nBring your smiles and have a great time:
 \n\nMeeting and connecting with other families\nSplashing and swimming\nFl
 oating in the lazy river\nFeeling supported\n\nLifeguards will be on duty\
 , and event accommodations will help ensure everyone has a safe and enjoya
 ble time.\nAdmission is $ 7.18 per ticket. One ticket will admit a family 
 of up to four members. You must buy two tickets if your family has more th
 an four members.\nBuy your tickets online by Aug. 8. Space is limited. Be 
 sure to register early to save your spot.\n
CATEGORIES:Special Event
LOCATION:Aquatic Zoo Water Park\, 1700 34th St.\, Mount Vernon\, Illinois\,
  62711\, 62864\, United States
X-APPLE-STRUCTURED-LOCATION;VALUE=URI;X-ADDRESS=1700 34th St.\, Mount Verno
 n\, Illinois\, 62711\, 62864\, United States;X-APPLE-RADIUS=100;X-TITLE=Aq
 uatic Zoo Water Park:geo:0,0
END:VEVENT
BEGIN:VTIMEZONE
TZID:America/Chicago
X-LIC-LOCATION:America/Chicago
BEGIN:DAYLIGHT
DTSTART:20250309T030000
TZOFFSETFROM:-0600
TZOFFSETTO:-0500
TZNAME:CDT
END:DAYLIGHT
END:VTIMEZONE
END:VCALENDAR