BEGIN:VCALENDAR
VERSION:2.0
PRODID:-//wp-events-plugin.com//7.2.3.1//EN
TZID:America/Chicago
X-WR-TIMEZONE:America/Chicago
BEGIN:VEVENT
UID:602@dev.dscc.uic.edu
DTSTART;TZID=America/Chicago:20170123T173000
DTEND;TZID=America/Chicago:20170123T193000
DTSTAMP:20170110T151041Z
URL:https://dev.dscc.uic.edu/events/sensory-night-at-springfield-sky-zone/
SUMMARY:Sensory Night at Springfield Sky Zone
DESCRIPTION:Indoor trampoline park will accommodate jumpers with special n
 eeds\n\nSky Zone in Springfield announced that it will turn off the music\
 , limit distractions and make every effort to accommodate all jumpers with
  special needs during its Sensory Night on Jan. 23.\n\nPLEASE NOTE: Only
  special needs guests will be able to jump for free.\n\nReservations are 
 needed. Click here to register and find more information.\n\n&nbsp\;\n\n&n
 bsp\;\n\n&nbsp\;
CATEGORIES:Special Event
LOCATION:Sky Zone Trampoline Park\, 3454 Liberty Drive\, Springfield\, IL \
 , 62704 \, United States
GEO:39.7513401;-89.71374029999998
X-APPLE-STRUCTURED-LOCATION;VALUE=URI;X-ADDRESS=3454 Liberty Drive\, Spring
 field\, IL \, 62704 \, United States;X-APPLE-RADIUS=100;X-TITLE=Sky Zone T
 rampoline Park:geo:39.7513401,-89.71374029999998
END:VEVENT
BEGIN:VTIMEZONE
TZID:America/Chicago
X-LIC-LOCATION:America/Chicago
BEGIN:STANDARD
DTSTART:20161106T010000
TZOFFSETFROM:-0500
TZOFFSETTO:-0600
TZNAME:CST
END:STANDARD
END:VTIMEZONE
END:VCALENDAR