BEGIN:VCALENDAR
VERSION:2.0
PRODID:-//wp-events-plugin.com//7.2.3.1//EN
TZID:America/Chicago
X-WR-TIMEZONE:America/Chicago
BEGIN:VEVENT
UID:1962@dev.dscc.uic.edu
DTSTART;TZID=America/Chicago:20211106T100000
DTEND;TZID=America/Chicago:20211106T140000
DTSTAMP:20211018T191616Z
URL:https://dev.dscc.uic.edu/events/sibling-workshop-in-oregon-ill/
SUMMARY:Sibling Workshop in Oregon\, Ill.
DESCRIPTION:A free workshop providing a day filled with fun\, education and
  peer support for the siblings of children with special needs.\n\nAre you 
 between the ages of 5 to 15 and have a brother or sister with special need
 s?\n\nYou're invited to the Easterseals Sibling Workshop "Thankful for Fri
 ends" on Nov. 6 from 10 a.m - 2 p.m.\n\nCome hang out at Nash Recreation C
 enter in Oregon with other siblings and enjoy a day filled with fun. "Than
 kful for Friends" is the theme and Rose Slaght from Starnet Region I &amp\
 ; Ill will lead everyone in a variety of interactive and educational activ
 ities.\n\nLunch will be served.\n\nCOVID-19 guidelines will be followed an
 d include wearing face masks\, social distancing and screening prior to in
 dividuals joining the group.\n\nRegistration is required by Nov. 3.\n\nTo 
 reserve a spot for your child\, call Patti at (815) 965-5069 or email Patt
 i at pmook@eastersealschicago.org
CATEGORIES:Special Event,Workshop
LOCATION:Nash Recreation Center\, 304 S. Fifth St.\, Oregon\, Illinois\, 61
 061 \, United States
X-APPLE-STRUCTURED-LOCATION;VALUE=URI;X-ADDRESS=304 S. Fifth St.\, Oregon\,
  Illinois\, 61061 \, United States;X-APPLE-RADIUS=100;X-TITLE=Nash Recreat
 ion Center:geo:0,0
END:VEVENT
BEGIN:VTIMEZONE
TZID:America/Chicago
X-LIC-LOCATION:America/Chicago
BEGIN:DAYLIGHT
DTSTART:20210314T030000
TZOFFSETFROM:-0600
TZOFFSETTO:-0500
TZNAME:CDT
END:DAYLIGHT
END:VTIMEZONE
END:VCALENDAR