BEGIN:VCALENDAR
VERSION:2.0
PRODID:-//wp-events-plugin.com//7.2.3.1//EN
TZID:America/Chicago
X-WR-TIMEZONE:America/Chicago
BEGIN:VEVENT
UID:807@dev.dscc.uic.edu
DTSTART;TZID=America/Chicago:20170816T150000
DTEND;TZID=America/Chicago:20170816T170000
DTSTAMP:20170804T210536Z
URL:https://dev.dscc.uic.edu/events/siu-center-for-family-medicines-family
 -fun-and-health-fair/
SUMMARY:SIU Center for Family Medicine's Family Fun and Health Fair
DESCRIPTION:Free health screenings and activities for kids.\n\nThe Family F
 un and Health Fair is a free event for the whole family to learn more abo
 ut the different types of services available to children and families in 
 the Springfield area as well as the importance of healthy diets\, exercis
 e and routine health screenings.\n\nUIC's Division of Specialized Care for
  Children staff from the Springfield Regional Office will be there to visi
 t with families and explain how we can partner with them to help connect t
 heir children with special healthcare needs to services and resources.
CATEGORIES:Health Fair
LOCATION:SIU Center for Family Medicine\, 520 North 4th St\, Springfield\, 
 Illinois\, United States
GEO:39.8069837;-89.65006829999999
X-APPLE-STRUCTURED-LOCATION;VALUE=URI;X-ADDRESS=520 North 4th St\, Springfi
 eld\, Illinois\, United States;X-APPLE-RADIUS=100;X-TITLE=SIU Center for F
 amily Medicine:geo:39.8069837,-89.65006829999999
END:VEVENT
BEGIN:VTIMEZONE
TZID:America/Chicago
X-LIC-LOCATION:America/Chicago
BEGIN:DAYLIGHT
DTSTART:20170312T030000
TZOFFSETFROM:-0600
TZOFFSETTO:-0500
TZNAME:CDT
END:DAYLIGHT
END:VTIMEZONE
END:VCALENDAR