BEGIN:VCALENDAR
VERSION:2.0
PRODID:-//wp-events-plugin.com//7.2.3.1//EN
TZID:America/Chicago
X-WR-TIMEZONE:America/Chicago
BEGIN:VEVENT
UID:1159@dev.dscc.uic.edu
DTSTART;TZID=America/Chicago:20190223T083000
DTEND;TZID=America/Chicago:20190223T160000
DTSTAMP:20181101T214356Z
URL:https://dev.dscc.uic.edu/events/south-of-i-70-conference-for-parents-o
 f-children-who-are-deaf-and-hard-of-hearing-3/
SUMMARY:South of I-70 Conference for Parents of Children who are Deaf and H
 ard of Hearing
DESCRIPTION:Free event provides opportunity to network and gain resources.\
 n\nFamilies who live south of Interstate 70 are invited to attend the Feb.
  23 Conference for Parents of Children who are Deaf and Hard of Hearing 
 in Marion.\n\nThe conference will address the following topics:\n\n 	Tran
 sition After High School: What's Next?\n 	Accommodations and Modifications
  in the School Setting\n 	Siblings: All About Siblings\n 	Educating the WH
 OLE Child: A Parent's Perspective\n\nFinancial assistance may be available
  to help with travel\, lodging and/or childcare costs.\n\nNo childcare is 
 provided. Children age 15 and older are welcome to participate in the conf
 erence.\n\nTo register and learn more information about this event\, see t
 he conference flyer.\n\n&nbsp\;
CATEGORIES:Conference
LOCATION:Marion High School\, 1700 Wildcat Drive\, Marion\, IL\, United Sta
 tes
GEO:37.71478880000001;-88.9396003
X-APPLE-STRUCTURED-LOCATION;VALUE=URI;X-ADDRESS=1700 Wildcat Drive\, Marion
 \, IL\, United States;X-APPLE-RADIUS=100;X-TITLE=Marion High School:geo:37
 .71478880000001,-88.9396003
END:VEVENT
BEGIN:VTIMEZONE
TZID:America/Chicago
X-LIC-LOCATION:America/Chicago
BEGIN:STANDARD
DTSTART:20181104T010000
TZOFFSETFROM:-0500
TZOFFSETTO:-0600
TZNAME:CST
END:STANDARD
END:VTIMEZONE
END:VCALENDAR