BEGIN:VCALENDAR
VERSION:2.0
PRODID:-//wp-events-plugin.com//7.2.3.1//EN
TZID:America/Chicago
X-WR-TIMEZONE:America/Chicago
BEGIN:VEVENT
UID:929@dev.dscc.uic.edu
DTSTART;TZID=America/Chicago:20180421T081500
DTEND;TZID=America/Chicago:20180421T160000
DTSTAMP:20180206T181253Z
URL:https://dev.dscc.uic.edu/events/south-of-i-80-conference-for-parents-o
 f-children-who-are-deaf-and-hard-of-hearing-2/
SUMMARY:South of I-80 Conference for Parents of Children who are Deaf and H
 ard of Hearing
DESCRIPTION:&nbsp\;\n\nFree event provides opportunity to network and gain 
 resources.\n\nCentral Illinois families who live between interstates 80 a
 nd 70 are invited to attend the "South of I-80" Conference for Parents 
 of Children who are Deaf and Hard of Hearing in Springfield on April 21.
 \n\nThe conference will address the topics of technology\, IEPs and behavi
 or. It will also include a deaf panel. Contributors include AG Bell Monte
 ssori School-AEHI\, Illinois School for the Deaf\, Illinois Service Resour
 ce Center\, Marion High School and STARnet.\n\nFinancial assistance may b
 e available to help with travel\, lodging and/or childcare costs. Addition
 al details and registration information is available here.
CATEGORIES:Conference
LOCATION:HSHS St. John's Hospital\, Dove Conference Center\, 619 E. Mason S
 t.\, Springfield\, IL \, United States
GEO:39.8054622;-89.64665230000003
X-APPLE-STRUCTURED-LOCATION;VALUE=URI;X-ADDRESS=619 E. Mason St.\, Springfi
 eld\, IL \, United States;X-APPLE-RADIUS=100;X-TITLE=HSHS St. John's Hospi
 tal\, Dove Conference Center:geo:39.8054622,-89.64665230000003
END:VEVENT
BEGIN:VTIMEZONE
TZID:America/Chicago
X-LIC-LOCATION:America/Chicago
BEGIN:DAYLIGHT
DTSTART:20180311T030000
TZOFFSETFROM:-0600
TZOFFSETTO:-0500
TZNAME:CDT
END:DAYLIGHT
END:VTIMEZONE
END:VCALENDAR