BEGIN:VCALENDAR
VERSION:2.0
PRODID:-//wp-events-plugin.com//7.2.3.1//EN
TZID:America/Chicago
X-WR-TIMEZONE:America/Chicago
BEGIN:VEVENT
UID:2296@dev.dscc.uic.edu
DTSTART;TZID=America/Chicago;VALUE=DATE:20220605
DTEND;TZID=America/Chicago;VALUE=DATE:20220606
DTSTAMP:20220411T212007Z
URL:https://dev.dscc.uic.edu/events/special-camps-overnight-camp-in-oregon
 -ill/
SUMMARY:Special Camps - Overnight Camp in Oregon\, Ill.
DESCRIPTION:Overnight camp opportunities for children and adults with intel
 lectual disabilities and autism ages 8 - 24+\n\nSpecial Camps is a safe\, 
 overnight\, volunteer-run camp that provides children and adults with inte
 llectual disabilities and autism a camp experience packed with activities 
 encouraging independence\, self-esteem and new friendships.\n\nSpecial Cam
 ps 2022 overnight sessions will be held on:\n\n 	June 5 – 10 for adult c
 ampers ages 24+\n 	June 12 – 17 for campers ages 8 – 23\n 	June 19 –
  24 for adult campers ages 24+\n\nSpecial Camps is held at White Pines Ran
 ch in Oregon\, Ill.\n\nAlongside a teen volunteer and trained adult superv
 isors\, campers will enjoy activities including:\n\n 	Swimming\, archery a
 nd outdoor sports\n 	Horseback riding and grooming\n 	Arts and crafts\n 	H
 ayrides\, campfire songs and s’mores\n\nView the Special Camps flyer.\n\
 nThe cost is $350 per camper. Scholarships may be available.\n\nView the S
 pecial Camps information and application forms for registration informati
 on.\n\nFor more information\, please contact Colleen McDonald at (630) 690
 -0944 or colleen.scamps@icloud.com.
CATEGORIES:Camp
LOCATION:White Pines Ranch\, 3581 W Pines Rd\, Oregon\, IL\, 61061\, United
  States
GEO:41.9886248;-89.40730339999999
X-APPLE-STRUCTURED-LOCATION;VALUE=URI;X-ADDRESS=3581 W Pines Rd\, Oregon\, 
 IL\, 61061\, United States;X-APPLE-RADIUS=100;X-TITLE=White Pines Ranch:ge
 o:41.9886248,-89.40730339999999
END:VEVENT
BEGIN:VTIMEZONE
TZID:America/Chicago
X-LIC-LOCATION:America/Chicago
BEGIN:DAYLIGHT
DTSTART:20220313T030000
TZOFFSETFROM:-0600
TZOFFSETTO:-0500
TZNAME:CDT
END:DAYLIGHT
END:VTIMEZONE
END:VCALENDAR