BEGIN:VCALENDAR
VERSION:2.0
PRODID:-//wp-events-plugin.com//7.2.3.1//EN
TZID:America/Chicago
X-WR-TIMEZONE:America/Chicago
BEGIN:VEVENT
UID:4546@dev.dscc.uic.edu
DTSTART;TZID=America/Chicago:20240906T150000
DTEND;TZID=America/Chicago:20240906T160000
DTSTAMP:20240826T194228Z
URL:https://dev.dscc.uic.edu/events/special-education-conflict-resolution-
 webinar-series-session-1-working-together-ways-to-work-together-as-an-iep-
 team/
SUMMARY:Special Education Conflict Resolution Webinar Series - "Session 1: 
 Working Together: Ways to Work Together as an IEP Team"
DESCRIPTION:Free webinar series for parents\, caregivers and professionals 
 exploring dispute resolution\, partnering with your Individualized Educati
 on Program (IEP) team\, mediation and more\n\nJoin Family Matters Parent T
 raining and Resource Information Center for this four-part "Understanding 
 Dispute Resolution" webinar series on Zoom.\n\nFamily Matters educational 
 support coaches will cover conflict resolution options in the special educ
 ation process. Sessions will feature guest speakers from Equip for Equalit
 y\, the Illinois Guardianship and Advocacy Commission and the Illinois Sta
 te Board of Education.\n\nThe series will kick off with "Working Together:
  Ways to Work Together as an IEP Team" on Sept. 6 from 3 to 4 p.m.\n\nPart
 icipants will learn about:\n\n 	Working in partnership with your IEP team\
 n 	Writing state complaints\n 	Understanding the importance of procedural 
 safeguards\n 	Using due process and mediation effectively\n\nSee the "Ways
  to Work Together as an IEP Team" flyer on Family Matters' website for mor
 e details.\n\nRegister for session one - "Ways to Work Together as an IEP 
 Team." You must register for each session separately.\n\nFor questions\, c
 ontact educational support coach Abbi Mars at amars@fmptic.org.\n\nThe "Un
 derstanding Dispute Resolution" series will continue each Friday in Septem
 ber from 3 to 4 p.m. with:\n\n 	Session 2 - "Understanding Dispute Resolut
 ion and Procedural Safeguards" on Sept. 13\n 	Session 3 - "Overview of Sta
 te-Sponsored Mediation and Facilitated IEP Meetings" on Sept. 20\n 	Sessio
 n 4 - "Understanding Due Process and State Complaints" on Sept. 27\n
CATEGORIES:Education,Webinar
END:VEVENT
BEGIN:VTIMEZONE
TZID:America/Chicago
X-LIC-LOCATION:America/Chicago
BEGIN:DAYLIGHT
DTSTART:20240310T030000
TZOFFSETFROM:-0600
TZOFFSETTO:-0500
TZNAME:CDT
END:DAYLIGHT
END:VTIMEZONE
END:VCALENDAR