BEGIN:VCALENDAR
VERSION:2.0
PRODID:-//wp-events-plugin.com//7.2.3.1//EN
TZID:America/Chicago
X-WR-TIMEZONE:America/Chicago
BEGIN:VEVENT
UID:1640@dev.dscc.uic.edu
DTSTART;TZID=America/Chicago:20201202T153000
DTEND;TZID=America/Chicago:20201202T193000
DTSTAMP:20201112T170259Z
URL:https://dev.dscc.uic.edu/events/special-kids-drive-by-santa-holiday-pa
 rty-in-elmhurst/
SUMMARY:Special Kids Drive-By Santa & Holiday Party in Elmhurst
DESCRIPTION:A holiday party for children with special needs from the safety
  of your own car.\n\nFamilies of children with special needs are invited t
 o see Santa as you stay safe in your car.\n\nSpecial Kids Day is hosting a
  Drive-By Santa and Holiday Party at the Wilder Mansion in Elmhurst starti
 ng at 3:30 p.m. Dec. 2.\n\nFamilies can enjoy treats along with music\, li
 ghts and a big wave rom Santa.\n\nCrafts\, gift bags and cookies will be h
 anded out with all the necessary safety precautions.\n\nFamilies must regi
 ster in advance. Visit the online registration page to sign up.\n\nOnly on
 e car and one time slot is allowed per family.
ATTACH;FMTTYPE=image/jpeg:https://dev.dscc.uic.edu/wp-content/uploads/2018
 /11/Special-Kids-Day-Graphic.png
CATEGORIES:Special Event
LOCATION:Wilder Mansion\, 311 S. Prospect Ave\, Elmhurst\, IL\, United Stat
 es
X-APPLE-STRUCTURED-LOCATION;VALUE=URI;X-ADDRESS=311 S. Prospect Ave\, Elmhu
 rst\, IL\, United States;X-APPLE-RADIUS=100;X-TITLE=Wilder Mansion:geo:0,0
END:VEVENT
BEGIN:VTIMEZONE
TZID:America/Chicago
X-LIC-LOCATION:America/Chicago
BEGIN:STANDARD
DTSTART:20201101T010000
TZOFFSETFROM:-0500
TZOFFSETTO:-0600
TZNAME:CST
END:STANDARD
END:VTIMEZONE
END:VCALENDAR