BEGIN:VCALENDAR
VERSION:2.0
PRODID:-//wp-events-plugin.com//7.2.3.1//EN
TZID:America/Chicago
X-WR-TIMEZONE:America/Chicago
BEGIN:VEVENT
UID:185@dev.dscc.uic.edu
DTSTART;TZID=America/Chicago:20150220T100000
DTEND;TZID=America/Chicago:20150220T120000
DTSTAMP:20150203T164615Z
URL:https://dev.dscc.uic.edu/events/special-needs-focus-group/
SUMMARY:Special Needs Focus Group
DESCRIPTION:Help us determine goals for the state's special needs programs.
 \n\nEvery 5 years\, each state reevaluates its needs to set new goals for 
 the Maternal and Child Health Block Grant. This federal grant provides fun
 ding to states to develop programs.\n\nThe Department of Public Health is 
 holding a focus group at our Chicago office. The focus group will discuss 
 specific topics to help Illinois determine its needs:\n\n	What can be done
  to strengthen existing health services for you and your family?\n	What he
 alth services do you need that you are not currently getting?\n	What barri
 ers do you experience in trying to get health services you need?\n	What ch
 allenges are specific to your age group?\n	What information about the Affo
 rdable Care Act would be most useful to you?\n\nFree parking is provided a
 nd Spanish interpreters will be on-site. Limited space is available so ple
 ase call to RSVP.\n\nTo participate in this focus group\, call Shelly or K
 atie (800) 322-3722.
LOCATION:DSCC Chicago\, Suite 307\, 1309 S. Halsted\, Chicago\, Illinois\, 
 United States
GEO:41.86509909999999;-87.64657269999998
X-APPLE-STRUCTURED-LOCATION;VALUE=URI;X-ADDRESS=1309 S. Halsted\, Chicago\,
  Illinois\, United States;X-APPLE-RADIUS=100;X-TITLE=DSCC Chicago\, Suite 
 307:geo:41.86509909999999,-87.64657269999998
END:VEVENT
BEGIN:VTIMEZONE
TZID:America/Chicago
X-LIC-LOCATION:America/Chicago
BEGIN:STANDARD
DTSTART:20141102T010000
TZOFFSETFROM:-0500
TZOFFSETTO:-0600
TZNAME:CST
END:STANDARD
END:VTIMEZONE
END:VCALENDAR