BEGIN:VCALENDAR
VERSION:2.0
PRODID:-//wp-events-plugin.com//7.2.3.1//EN
TZID:America/Chicago
X-WR-TIMEZONE:America/Chicago
BEGIN:VEVENT
UID:2044@dev.dscc.uic.edu
DTSTART;TZID=America/Chicago:20211205T110000
DTEND;TZID=America/Chicago:20211205T140000
DTSTAMP:20211202T020000Z
URL:https://dev.dscc.uic.edu/events/special-needs-mom-squad-sensory-friend
 ly-holiday-event-in-romeoville/
SUMMARY:Special Needs Mom Squad Sensory-Friendly Holiday Event in Romeovill
 e
DESCRIPTION:An annual holiday celebration featuring photos with Santa\n\nJo
 in the Special Needs Mom Squad for its annual sensory-friendly holiday par
 ty at Mistwood Gold Club in Romeoville on Dec. 5 from 11 a.m. - 2 p.m.\n\n
 The Special Needs Mom Squad provides a safe place to support each other an
 d share ideas\, insights and a common bond.\n\nAll abilities are welcome f
 or this annual holiday celebration that includes drinks\, food\, a visit w
 ith Santa and all sensory activities.\n\nBe sure to bring your camera to c
 apture the smiles with Santa!\n\nYou can visit the event registration page
  to buy tickets and see more details.
CATEGORIES:Special Event
LOCATION:Mistwood Golf Club\, 1700 W. Renwick Road\, Romeoville\, IL\, 6044
 6\, United States
GEO:41.595523;-88.143397
X-APPLE-STRUCTURED-LOCATION;VALUE=URI;X-ADDRESS=1700 W. Renwick Road\, Rome
 oville\, IL\, 60446\, United States;X-APPLE-RADIUS=100;X-TITLE=Mistwood Go
 lf Club:geo:41.595523,-88.143397
END:VEVENT
BEGIN:VTIMEZONE
TZID:America/Chicago
X-LIC-LOCATION:America/Chicago
BEGIN:STANDARD
DTSTART:20211107T010000
TZOFFSETFROM:-0500
TZOFFSETTO:-0600
TZNAME:CST
END:STANDARD
END:VTIMEZONE
END:VCALENDAR