BEGIN:VCALENDAR
VERSION:2.0
PRODID:-//wp-events-plugin.com//7.2.3.1//EN
TZID:America/Chicago
X-WR-TIMEZONE:America/Chicago
BEGIN:VEVENT
UID:966@dev.dscc.uic.edu
DTSTART;TZID=America/Chicago:20180520T100000
DTEND;TZID=America/Chicago:20180520T140000
DTSTAMP:20180507T214044Z
URL:https://dev.dscc.uic.edu/events/special-needs-playdate-in-chicago/
SUMMARY:Special Needs Playdate in Chicago
DESCRIPTION:All-inclusive day of fun for children and families.\n\nChicago 
 Parent Magazine's Special Needs Playdate features acoustic musicians and 
 entertainers\, bounce houses\, games\, a quiet room and activities for kid
 s with special needs and their siblings. Parents will have the opportunity
  to learn valuable information about therapies\, camps\, schools\, hospi
 tal programs and more.\n\nUIC Division of Specialized Care for Children s
 taff will be available to speak with parents about how we can support t
 heir family through their child's journey with a medical condition and dev
 elop a personalized plan of care.\n\nA to Z Mobility will also be on site 
 offering free minor repairs and adjustments for most wheelchairs.\n\nThe c
 ost is $5 for children ages 3 through 14. Youth under 2 and adults are fre
 e.\n\nClick on the playdate registration page for more information and to 
 purchase tickets.\n\n&nbsp\;\n\n&nbsp\;\n\n&nbsp\;\n\n&nbsp\;
CATEGORIES:Playdate
LOCATION:DePaul College Prep\, 3633 N. California Ave.\, Chicago\, IL \, Un
 ited States
GEO:41.9487858;-87.69747699999999
X-APPLE-STRUCTURED-LOCATION;VALUE=URI;X-ADDRESS=3633 N. California Ave.\, C
 hicago\, IL \, United States;X-APPLE-RADIUS=100;X-TITLE=DePaul College Pre
 p:geo:41.9487858,-87.69747699999999
END:VEVENT
BEGIN:VTIMEZONE
TZID:America/Chicago
X-LIC-LOCATION:America/Chicago
BEGIN:DAYLIGHT
DTSTART:20180311T030000
TZOFFSETFROM:-0600
TZOFFSETTO:-0500
TZNAME:CDT
END:DAYLIGHT
END:VTIMEZONE
END:VCALENDAR