BEGIN:VCALENDAR
VERSION:2.0
PRODID:-//wp-events-plugin.com//7.2.3.1//EN
TZID:America/Chicago
X-WR-TIMEZONE:America/Chicago
BEGIN:VEVENT
UID:64@dev.dscc.uic.edu
DTSTART;TZID=America/Chicago:20141115T083000
DTEND;TZID=America/Chicago:20141115T133000
DTSTAMP:20141014T184249Z
URL:https://dev.dscc.uic.edu/events/summit-for-youth-with-disabilities/
SUMMARY:Summit for Youth with Disabilities
DESCRIPTION:Find information and resources for youths 14 and older.\n\nGain
  valuable knowledge and assistance for employment\, special work incentive
 s offered by the Social Security Administration and educational and recre
 ational resources to promote independent living. This event is for youths\
 , parents\, educators\, vocational professionals\, and service providers. 
 You'll also have an opportunity to meet and join the Chicago Concerned Par
 ents Group.\n\nTo register\, call (312) 746-5746.
CATEGORIES:Conference
LOCATION:Mayor's Office for People with Disabilities (Central West Field Of
 fice)\, 2102 W. Ogden Avenue\, Chicago\, Illinois\, 60612\, United States
GEO:41.870639;-87.67855859999997
X-APPLE-STRUCTURED-LOCATION;VALUE=URI;X-ADDRESS=2102 W. Ogden Avenue\, Chic
 ago\, Illinois\, 60612\, United States;X-APPLE-RADIUS=100;X-TITLE=Mayor's 
 Office for People with Disabilities (Central West Field Office):geo:41.870
 639,-87.67855859999997
END:VEVENT
BEGIN:VTIMEZONE
TZID:America/Chicago
X-LIC-LOCATION:America/Chicago
BEGIN:STANDARD
DTSTART:20141102T010000
TZOFFSETFROM:-0500
TZOFFSETTO:-0600
TZNAME:CST
END:STANDARD
END:VTIMEZONE
END:VCALENDAR