BEGIN:VCALENDAR
VERSION:2.0
PRODID:-//wp-events-plugin.com//7.2.3.1//EN
TZID:America/Chicago
X-WR-TIMEZONE:America/Chicago
BEGIN:VEVENT
UID:2890@dev.dscc.uic.edu
DTSTART;TZID=America/Chicago:20230117T180000
DTEND;TZID=America/Chicago:20230117T190000
DTSTAMP:20230112T141809Z
URL:https://dev.dscc.uic.edu/events/the-penguin-project-of-mclean-county-2
 023-information-meeting/
SUMMARY:The Penguin Project of McLean County 2023 Information Meeting
DESCRIPTION:An opportunity for young artists with disabilities to explore t
 he dramatic arts and their creative talents\n\nThe Penguin Project of McLe
 an County invites youth and their parents to their "2023 Info Meeting" on 
 Jan. 17 from 6 to 7 p.m.\n\nThe meeting will be at the Normal Activity Cen
 ter\, 1110 Douglas St.\, in Normal.\n\nParents/guardians and participants 
 can hear the show announcement excitement and find out what's planned for 
 the 2023 season!\n\nThe Penguin Project provides a supportive environment 
 for children ages 10 to 24 with disabilities to explore their creative tal
 ents. Children with cognitive\, learning\, motor\, hearing and visual impa
 irments\, genetic disorders and neurological disorders are matched with ag
 e level peer-mentors. Peer-mentors\, ages 12 to 24\, work alongside their 
 partners throughout the entire rehearsal process and on stage provide dire
 ct assistance only as needed.\n\nMeeting participants will receive applica
 tion information and the rehearsal schedule.\n\nVisit The Penguin Project 
 of McClean website for more details and updates.
CATEGORIES:Special Event
LOCATION:Normal Activity Center\, 1110 Douglas St.\, Normal\, IL\, 61761\, 
 United States
X-APPLE-STRUCTURED-LOCATION;VALUE=URI;X-ADDRESS=1110 Douglas St.\, Normal\,
  IL\, 61761\, United States;X-APPLE-RADIUS=100;X-TITLE=Normal Activity Cen
 ter:geo:0,0
END:VEVENT
BEGIN:VTIMEZONE
TZID:America/Chicago
X-LIC-LOCATION:America/Chicago
BEGIN:STANDARD
DTSTART:20221106T010000
TZOFFSETFROM:-0500
TZOFFSETTO:-0600
TZNAME:CST
END:STANDARD
END:VTIMEZONE
END:VCALENDAR