BEGIN:VCALENDAR
VERSION:2.0
PRODID:-//wp-events-plugin.com//7.2.3.1//EN
TZID:America/Chicago
X-WR-TIMEZONE:America/Chicago
BEGIN:VEVENT
UID:5293@dev.dscc.uic.edu
DTSTART;TZID=America/Chicago:20250609T080000
DTEND;TZID=America/Chicago:20250609T170000
DTSTAMP:20250311T132804Z
URL:https://dev.dscc.uic.edu/events/treasure-hunters-day-camp-at-eastersea
 ls-timber-pointe-outdoor-center-in-hudson/
SUMMARY:Treasure Hunters Day Camp at Easterseals Timber Pointe Outdoor Cent
 er in Hudson
DESCRIPTION:Calling all explorers ages 5 to 17 with or without a disability
  for a unique theme each week and the ultimate in fun!\n\nEasterseals Timb
 er Pointe Outdoor Center (TPOC) will host "Treasure Hunters" from June 9 t
 o 13. Camp will run Monday through Friday from 8 a.m. to 5 p.m. each day.\
 n\nAll activities are completely adaptive for all abilities. This week wil
 l be packed with daring quests\, hidden treasures and non-stop excitement!
 \n\nCampers will have fun:\n\n 	Tracking down artifacts like Indiana Jones
 \n 	Panning for gold\n 	Hunting for pirate treasure\n 	Sailing toward rich
 es on paddle boats\n 	Climbing the rock wall to discover clues and more!\n
 \nBreakfast\, lunch\, and an afternoon snack are included.\n\nSee the 2025
  Timber Pointe camp schedule for all day and overnight camp session dates.
 \n\nThe cost is $425 a week per camper. Please see the Day Camp Handbook 
 for more details and information on financial help.\n\nYou can register on
 line for Timber Pointe day camp.\n\nVisit Timber Pointe Outdoor Center's c
 amp page for more details about its camps and other programming.
CATEGORIES:Camp
LOCATION:Timber Pointe Outdoor Center\, 20 Timber Pointe Lane\, Hudson\, Il
 linois\, United States
X-APPLE-STRUCTURED-LOCATION;VALUE=URI;X-ADDRESS=20 Timber Pointe Lane\, Hud
 son\, Illinois\, United States;X-APPLE-RADIUS=100;X-TITLE=Timber Pointe Ou
 tdoor Center:geo:0,0
END:VEVENT
BEGIN:VTIMEZONE
TZID:America/Chicago
X-LIC-LOCATION:America/Chicago
BEGIN:DAYLIGHT
DTSTART:20250309T030000
TZOFFSETFROM:-0600
TZOFFSETTO:-0500
TZNAME:CDT
END:DAYLIGHT
END:VTIMEZONE
END:VCALENDAR