BEGIN:VCALENDAR
VERSION:2.0
PRODID:-//wp-events-plugin.com//7.2.3.1//EN
TZID:America/Chicago
X-WR-TIMEZONE:America/Chicago
BEGIN:VEVENT
UID:2464@dev.dscc.uic.edu
DTSTART;TZID=America/Chicago;VALUE=DATE:20221105
DTEND;TZID=America/Chicago;VALUE=DATE:20221106
DTSTAMP:20220707T155734Z
URL:https://dev.dscc.uic.edu/events/virtual-camp-kangaroo/
SUMMARY:Virtual Camp Kangaroo
DESCRIPTION:&nbsp\;\n\nFree\, virtual camp experience for children and yout
 h ages 5 to 18 and their guardians who have experienced the death of someo
 ne close to them in the last two years\n\nAccentCare Hospice invites you t
 o attend Camp Kangaroo on Nov. 5. Times for speakers and activities are pe
 nding.\n\nCamp Kangaroo provides a supportive and therapeutic environment 
 for children who have experienced the death of someone close to them. Cam
 p Kangaroo participants will participate in fun camp activities\, build re
 lationships with one another\, and receive grief education and emotional s
 upport.\n\nThe camp is led by professionals and trained volunteers from Ac
 centCare Hospice\, formerly Seasons Hospice &amp\; Palliative Care. The ca
 mp will include:\n\n 	A custom kit with supplies and instructions\n 	Indiv
 idual support\n 	Virtual age-grouped sessions\n 	Guardian support meetings
 \n\nChildren and youth ages 5 to 18 who have experienced the loss of a lov
 ed one in the last two years are welcome to participate.\n\nChildren exper
 ience grief in their own unique way and may be at different places in the 
 bereavement process.  To help meet each camper's needs\, a staff member w
 ill contact you to complete an interview prior to camp.\n\nSee the Camp Ka
 ngaroo brochure and inquiry form for more details. Participants must submi
 t the inquiry form at the bottom of the brochure by Oct. 15.\n\nFor more i
 nformation\, contact Maureen Zito at MaureenZito@AccentCare.com or (847) 7
 59-9449.
CATEGORIES:Camp
END:VEVENT
BEGIN:VTIMEZONE
TZID:America/Chicago
X-LIC-LOCATION:America/Chicago
BEGIN:DAYLIGHT
DTSTART:20220313T030000
TZOFFSETFROM:-0600
TZOFFSETTO:-0500
TZNAME:CDT
END:DAYLIGHT
END:VTIMEZONE
END:VCALENDAR