BEGIN:VCALENDAR
VERSION:2.0
PRODID:-//wp-events-plugin.com//7.2.3.1//EN
TZID:America/Chicago
X-WR-TIMEZONE:America/Chicago
BEGIN:VEVENT
UID:3502@dev.dscc.uic.edu
DTSTART;TZID=America/Chicago:20230807T080000
DTEND;TZID=America/Chicago:20230807T161500
DTSTAMP:20230801T154654Z
URL:https://dev.dscc.uic.edu/events/virtual-one-stop-resource-shop-illinoi
 s-school-for-the-deaf-statewide-2023-conference/
SUMMARY:Virtual One-Stop Resource Shop - Illinois School for the Deaf State
 wide 2023 Conference
DESCRIPTION:&nbsp\;\n\nA free\, virtual conference highlighting the latest 
 services and resources available to anyone who works with children who are
  deaf\, deaf-blind and hard of hearing in Illinois\n\nJoin the Illinois Sc
 hool for the Deaf Outreach Program for the 2023 Statewide Conference "One-
 Stop Resource Shop" on Aug. 7 from 8 a.m. to 4:15 p.m.\n\nThe day-long con
 ference will be your one-stop for learning about a wide range of resources
  and services available to professionals who work with children who are de
 af\, deaf-blind and hard of hearing (DHH) in Illinois. \n\nThe conference 
 will feature nearly a dozen organizations\, including the University of Ch
 icago's Division of Specialized Care for Children. Participants will hear 
 from each group and have an opportunity to ask questions.  \n\nShelly Ro
 at\, DSCC's Assistant Director of Operations for the Core Program\, will s
 peak about how DSCC helps Illinois children and youth with hearing loss an
 d their families connect with services and resources.\n\n\nSee the confere
 nce flyer for more details and a list of presenters.\n\nAmerican Sign Lang
 uage (ASL) interpreters and automated captioning will be available.\n\nReg
 ister for the 2023 virtual conference.\n\nYou will receive a confirmation 
 email with the Zoom link and more details about one week before the event.
 \n\nIf you have any questions\, please contact Tina.Childress@illinois.go
 v.\n\n
CATEGORIES:Conference
END:VEVENT
BEGIN:VTIMEZONE
TZID:America/Chicago
X-LIC-LOCATION:America/Chicago
BEGIN:DAYLIGHT
DTSTART:20230312T030000
TZOFFSETFROM:-0600
TZOFFSETTO:-0500
TZNAME:CDT
END:DAYLIGHT
END:VTIMEZONE
END:VCALENDAR