BEGIN:VCALENDAR
VERSION:2.0
PRODID:-//wp-events-plugin.com//7.2.3.1//EN
TZID:America/Chicago
X-WR-TIMEZONE:America/Chicago
BEGIN:VEVENT
UID:2722@dev.dscc.uic.edu
DTSTART;TZID=America/Chicago:20221101T183000
DTEND;TZID=America/Chicago:20221101T200000
DTSTAMP:20221004T194608Z
URL:https://dev.dscc.uic.edu/events/virtual-or-in-person-free-britney-less
 ons-on-alternatives-to-guardianship/
SUMMARY:Virtual or In-Person - "FREE Britney: Lessons on Alternatives to Gu
 ardianship"
DESCRIPTION:Free\, virtual or in-person learning opportunities for parents 
 and caregivers of children with intellectual and developmental disabilitie
 s\n\nThe Arc of the Quad Cities Area  Parent Learning Series is hosting "
 FREE Britney: Lessons on Alternatives to Guardianship" on Nov. 1  from 6:
 30 to 8 p.m. Individuals may participate in person at The Arc Building\, 4
 016 Ninth St.\, in Rock Island or via Zoom.\n\nJoin speaker David Goldfarb
 \, Director of Policy for The Arc of the United States\, for this presenta
 tion and discussion focusing on alternatives to guardianship.\n\nParticipa
 nts will also explore:\n\n 	Supportive decision-making\n 	Power of attorne
 y\n\nSee the learning series flyer for more details.\n\nRegister online o
 r contact Sue Gadient at gadients@arcqca.org or (309) 786-6474.
CATEGORIES:Webinar,Workshop
LOCATION:The Arc of the Quad Cities\, 4016 Ninth St.\, Rock Island\, IL\, 6
 1201\, United States
X-APPLE-STRUCTURED-LOCATION;VALUE=URI;X-ADDRESS=4016 Ninth St.\, Rock Islan
 d\, IL\, 61201\, United States;X-APPLE-RADIUS=100;X-TITLE=The Arc of the Q
 uad Cities:geo:0,0
END:VEVENT
BEGIN:VTIMEZONE
TZID:America/Chicago
X-LIC-LOCATION:America/Chicago
BEGIN:DAYLIGHT
DTSTART:20220313T030000
TZOFFSETFROM:-0600
TZOFFSETTO:-0500
TZNAME:CDT
END:DAYLIGHT
END:VTIMEZONE
END:VCALENDAR