BEGIN:VCALENDAR
VERSION:2.0
PRODID:-//wp-events-plugin.com//7.2.3.1//EN
TZID:America/Chicago
X-WR-TIMEZONE:America/Chicago
BEGIN:VEVENT
UID:1850@dev.dscc.uic.edu
DTSTART;TZID=America/Chicago:20210825T180000
DTEND;TZID=America/Chicago:20210825T190000
DTSTAMP:20210629T204434Z
URL:https://dev.dscc.uic.edu/events/virtual-sails-program-supporting-adole
 scents-with-independent-life-skills-10/
SUMMARY:Virtual SAILS Program - Supporting Adolescents With Independent Lif
 e Skills
DESCRIPTION:&nbsp\;\n\nA series of educational sessions on a variety of top
 ics related to the transition to adult care\n\nThe Transition to Adult Car
 e Team at Ann &amp\; Robert H. Lurie Children's Hospital of Chicago is hos
 ting a virtual summer SAILS (Supporting Adolescents With Independent Life 
 Skills) program.\n\nThe program includes a series of educational sessions 
 on a variety of Transition to Adult Care topics\, including:\n\n 	Understa
 nding your benefits as an adult\n 	Panel presentation of young adults\n 	C
 ollege readiness\n\nThe SAILS sessions will be virtual using Microsoft Tea
 ms. A call-in option is also available.\n\nThe sessions take place on Wedn
 esdays from 6 to 7 p.m. through Sept. 8.\n\nThe Aug. 25 session on mental 
 health with presenter Megan Lerner\, LCSW\, Lurie Children's Pritzker Depa
 rtment of Psychiatry and Behavioral Health.\n\nMeeting log-in information 
 and a full schedule of upcoming SAILS sessions are posted on the Lurie web
 site. \n\nFeel free to attend as many sessions as you would like.\n\nFor 
 more information\, call Angela Berger at (312) 227-5356 or email aberger@l
 uriechildrens.org.
CATEGORIES:Support Group,Webinar
END:VEVENT
BEGIN:VTIMEZONE
TZID:America/Chicago
X-LIC-LOCATION:America/Chicago
BEGIN:DAYLIGHT
DTSTART:20210314T030000
TZOFFSETFROM:-0600
TZOFFSETTO:-0500
TZNAME:CDT
END:DAYLIGHT
END:VTIMEZONE
END:VCALENDAR