BEGIN:VCALENDAR
VERSION:2.0
PRODID:-//wp-events-plugin.com//7.2.3.1//EN
TZID:America/Chicago
X-WR-TIMEZONE:America/Chicago
BEGIN:VEVENT
UID:3704@dev.dscc.uic.edu
DTSTART;TZID=America/Chicago:20231025T173000
DTEND;TZID=America/Chicago:20231025T193000
DTSTAMP:20231020T225100Z
URL:https://dev.dscc.uic.edu/events/virtual-strut-stroll-fashion-show-for-
 all/
SUMMARY:Virtual - "Strut & Stroll: Fashion Show for All"
DESCRIPTION:&nbsp\;\n\nA free virtual adaptive fashion show to help celebra
 te World Spina Bifida Day\n\nJoin the Spina Bifida Association of New York
  State (SBANYS) and Spina Bifida Association of Greater New England (SBAGN
 E) for "Strut &amp\; Roll: A Fashion Show for All" on Oct. 25 from 5:30 to
  7:30 p.m.\n\nSpina Bifida organizations SBANYS and SBAGNE are teaming up 
 for the third year in a row to celebrate the day in a big way!\n\nThe Stru
 t &amp\; Roll virtual adaptive fashion show will premiere on World Spina B
 ifida Day.\n\nAttendees will enjoy viewing fashions in a variety of styles
  and for a wide range of needs. The show will feature 13 brands and 23 mod
 els.\n\nRegister to watch the show and enjoy the fun!\n\nIf you need accom
 modations\, translation or interpretation services for this event\, please
  contact admin@sbanys.org.
CATEGORIES:Special Event
END:VEVENT
BEGIN:VTIMEZONE
TZID:America/Chicago
X-LIC-LOCATION:America/Chicago
BEGIN:DAYLIGHT
DTSTART:20230312T030000
TZOFFSETFROM:-0600
TZOFFSETTO:-0500
TZNAME:CDT
END:DAYLIGHT
END:VTIMEZONE
END:VCALENDAR