BEGIN:VCALENDAR
VERSION:2.0
PRODID:-//wp-events-plugin.com//7.2.3.1//EN
TZID:America/Chicago
X-WR-TIMEZONE:America/Chicago
BEGIN:VEVENT
UID:1942@dev.dscc.uic.edu
DTSTART;TZID=America/Chicago:20210922T180000
DTEND;TZID=America/Chicago:20210922T193000
DTSTAMP:20210920T212105Z
URL:https://dev.dscc.uic.edu/events/virtual-support-group-for-parents-of-a
 dult-children-living-with-hydrocephalus-and-idd/
SUMMARY:Virtual Support Group for Parents of Adult Children Living With Hyd
 rocephalus and IDD
DESCRIPTION:&nbsp\;\n\nAn online hydrocephalus support group of parents sup
 porting parents of adult children with hydrocephalus and intellectual and 
 developmental disabilities (IDD)\n\nThe Hydrocephalus Association invites 
 all parents of adults living with hydrocephalus and intellectual and devel
 opmental disabilities to join this virtual meeting via Zoom on Sept. 22 fr
 om 6 - 7:30 pm.\n\nThere are many ways and degrees that hydrocephalus affe
 cts the lives of loved ones.  For parents supporting children who are adu
 lts with IDD\, physical disability and/or learning challenges\, the road c
 an be challenging and lonely.\n\nQuestions of managing their care\, self-a
 dvocacy\, independent living and finding success in the workforce all loom
  large.\n\nJoin Fab HydroMoms\, Jackie and Amanda\, and other parents on a
  similar journey for connection and discussion. The hosts encourage partic
 ipants to join by video so that everyone can "be in the room together" and
  not feel alone.\n\nFor more information\, visit the Hydrocephalus Associa
 tion's Facebook event page.\n\nClick here to join using  Zoom on Sept. 22
  at 6 p.m.\n\nDial-In: (929) 205-6099\nMeeting ID: 844 4565 1507
CATEGORIES:Support Group
END:VEVENT
BEGIN:VTIMEZONE
TZID:America/Chicago
X-LIC-LOCATION:America/Chicago
BEGIN:DAYLIGHT
DTSTART:20210314T030000
TZOFFSETFROM:-0600
TZOFFSETTO:-0500
TZNAME:CDT
END:DAYLIGHT
END:VTIMEZONE
END:VCALENDAR