BEGIN:VCALENDAR
VERSION:2.0
PRODID:-//wp-events-plugin.com//7.2.3.1//EN
TZID:America/Chicago
X-WR-TIMEZONE:America/Chicago
BEGIN:VEVENT
UID:4324@dev.dscc.uic.edu
DTSTART;TZID=America/Chicago:20240724T190000
DTEND;TZID=America/Chicago:20240724T200000
DTSTAMP:20240723T132437Z
URL:https://dev.dscc.uic.edu/events/virtual-workshop-a-rapid-method-of-toi
 let-training-children-with-autism-3/
SUMMARY:Virtual Workshop - "A Rapid Method of Toilet Training Children with
  Autism"
DESCRIPTION:A free\, virtual workshop for parents of a child with autism se
 eking strategies on how to toilet train their child\n\nThe Chicago Autism 
 Network is hosting "A Rapid Method of Toilet Training Children with Autism
 " on July 24 from 7 to 8 p.m.\n\nDo you need help toilet training your chi
 ld with autism?\n\nJoin Dr. Carly Lapin\, PhD\, BCBA-D\, who will explain 
 a rapid method of toilet training children with autism.\n\nParticipants wi
 ll gain an understanding of the process through:\n\n 	Video models\n 	Spec
 ific\, step-by-step instructions\n 	Tips for preparing to conduct the inte
 rvention\n\nLapin has researched toilet training and autism using the spec
 ific method that she will discuss at the workshop.\n\nSign up online to at
 tend the toilet training workshop on Zoom. This is a free workshop\, but p
 lease register before the event.
CATEGORIES:Webinar,Workshop
END:VEVENT
BEGIN:VTIMEZONE
TZID:America/Chicago
X-LIC-LOCATION:America/Chicago
BEGIN:DAYLIGHT
DTSTART:20240310T030000
TZOFFSETFROM:-0600
TZOFFSETTO:-0500
TZNAME:CDT
END:DAYLIGHT
END:VTIMEZONE
END:VCALENDAR