BEGIN:VCALENDAR
VERSION:2.0
PRODID:-//wp-events-plugin.com//7.2.3.1//EN
TZID:America/Chicago
X-WR-TIMEZONE:America/Chicago
BEGIN:VEVENT
UID:3584@dev.dscc.uic.edu
DTSTART;TZID=America/Chicago:20230808T100000
DTEND;TZID=America/Chicago:20230808T110000
DTSTAMP:20230804T205403Z
URL:https://dev.dscc.uic.edu/events/virtual-workshop-series-understanding-
 and-analyzing-state-and-local-early-education-data-and-information/
SUMMARY:Virtual Workshop Series - "Understanding and Analyzing State and Lo
 cal Early Education Data and Information"
DESCRIPTION:&nbsp\;\n\nA free webinar series to help families understand an
 d use data to improve programs for infants and young children with disabil
 ities and their families\n\nUnderstanding and analyzing state and local pr
 ograms and systems data is an important way to improve programs that impac
 t young children with disabilities.\n\nFamily Matters Parent Training and 
 Information Center is offering a series of workshops to give caregivers th
 e tools they need to read\, interpret and apply this information.\n\nThe s
 essions will be on Zoom on Tuesdays from 10 to 11 a.m. on:\n\n 	Session 1 
 – Aug. 8\n 	Session 2 - Aug. 15\n 	Session 3- Aug. 22\n 	Session 4- Aug.
  29\n\nThis four-part workshop will explain the steps for understanding\, 
 analyzing and engaging in discussions about state and local data and repor
 ts. The training is based on resources created by DaSy: The Center for IDE
 A Early Childhood Data Systems.\n\nParents and caregivers of a child with 
 a disability from birth to age 5 are welcome.\n\nSign up for the virtual d
 ata workshops. Spots are limited. You must register for all four sessions.
 \n\nFor more information\, call (866) 436-7842.
CATEGORIES:Webinar,Workshop
END:VEVENT
BEGIN:VTIMEZONE
TZID:America/Chicago
X-LIC-LOCATION:America/Chicago
BEGIN:DAYLIGHT
DTSTART:20230312T030000
TZOFFSETFROM:-0600
TZOFFSETTO:-0500
TZNAME:CDT
END:DAYLIGHT
END:VTIMEZONE
END:VCALENDAR