BEGIN:VCALENDAR
VERSION:2.0
PRODID:-//wp-events-plugin.com//7.2.3.1//EN
TZID:America/Chicago
X-WR-TIMEZONE:America/Chicago
BEGIN:VEVENT
UID:3388@dev.dscc.uic.edu
DTSTART;TZID=America/Chicago:20230524T120000
DTEND;TZID=America/Chicago:20230524T131500
DTSTAMP:20230517T133847Z
URL:https://dev.dscc.uic.edu/events/webinar-adios-panales-aprendiendo-a-ir
 -al-bano-para-nino-as-con-necesidades-especiales/
SUMMARY:Webinar - "Adiós pañales – Aprendiendo a Ir al Baño para Niño
 /as con Necesidades Especiales"
DESCRIPTION:A free series of webinars in Spanish for families with children
  with autism and other disabilities\n\nJoin the Resource Center for Autism
  and Developmental Delays (RCADD) for "Adiós pañales – Aprendiendo a I
 r al Baño para Niño/as con Necesidades Especiales" on May 24 from 12 to 
 1:15 p.m.\n\nUna serie de entrenamientos virtuales gratuita en español pa
 ra familias y profesionales\n\nAprender a ir al baño puede ser un proceso
  difícil para niño/as con necesidades especiales. En este entrenamiento\
 , padres\, cuidadores y educadores podrán aprender las respuestas a pregu
 ntas comunes sobre el uso del inodoro como: ¿Cómo sé si mi hijo está 
 listo? ¿Necesito utilizar una recompensa o un motivador? ¿Cómo abordo l
 os ciertos problemas como tener miedo de descargar el baño\, usar demasia
 do papel higiénico y otros problemas?\n\nObtenga el volante informativo.\
 n\nRegístrese aqui.\nFor more information\, contact Nora Stillwell at nor
 ajs@uic.edu.
CATEGORIES:Training,Webinar
END:VEVENT
BEGIN:VTIMEZONE
TZID:America/Chicago
X-LIC-LOCATION:America/Chicago
BEGIN:DAYLIGHT
DTSTART:20230312T030000
TZOFFSETFROM:-0600
TZOFFSETTO:-0500
TZNAME:CDT
END:DAYLIGHT
END:VTIMEZONE
END:VCALENDAR