BEGIN:VCALENDAR
VERSION:2.0
PRODID:-//wp-events-plugin.com//7.2.3.1//EN
TZID:America/Chicago
X-WR-TIMEZONE:America/Chicago
BEGIN:VEVENT
UID:1644@dev.dscc.uic.edu
DTSTART;TZID=America/Chicago:20201208T110000
DTEND;TZID=America/Chicago:20201208T120000
DTSTAMP:20201130T201432Z
URL:https://dev.dscc.uic.edu/events/webinar-annual-state-testing-of-studen
 ts-does-your-child-need-an-alternate-assessment/
SUMMARY:Webinar - "Annual State Testing of Students: Does Your Child Need a
 n Alternate Assessment?"
DESCRIPTION:&nbsp\;\n\nFree webinar for parents and families about alternat
 e assessment in Illinois.\n\nFamily Matters Parent Training and Informatio
 n Center is hosting a free webinar for parents and families to gain inform
 ation to determine if your student needs an alternate assessment.\n\nThe p
 resentation is scheduled for 11 a.m. Dec. 8.\n\nThe webinar will cover:\n\
 n 	What alternate assessment is and what it looks like in Illinois\n 	Who 
 does and does not qualify for alternate assessment and why\n 	The 1 percen
 t Cap Rule in the Every Student Succeeds Act\n 	How alternate assessment r
 elates to the Illinois Learning Standards\n 	How to talk to individualized
  education program (IEP) teams about the alternate assessment\n 	Where to 
 go for resources and information\n\nClick here to register.\n\nPresenter: 
 Amy Deegan is the Principal Consultant for Low Incidence Populations in th
 e Special Education Department of the Illinois State Board of Education. I
 n addition to low incidence populations\, Amy also works with alternate as
 sessment\, assistive technology grants\, the Educational Surrogate Parent 
 program and various advisory groups. Amy's background is as a school socia
 l worker for deaf and hard of hearing programs and a licensed clinical soc
 ial worker.\n
CATEGORIES:Webinar
END:VEVENT
BEGIN:VTIMEZONE
TZID:America/Chicago
X-LIC-LOCATION:America/Chicago
BEGIN:STANDARD
DTSTART:20201101T010000
TZOFFSETFROM:-0500
TZOFFSETTO:-0600
TZNAME:CST
END:STANDARD
END:VTIMEZONE
END:VCALENDAR