BEGIN:VCALENDAR
VERSION:2.0
PRODID:-//wp-events-plugin.com//7.2.3.1//EN
TZID:America/Chicago
X-WR-TIMEZONE:America/Chicago
BEGIN:VEVENT
UID:3349@dev.dscc.uic.edu
DTSTART;TZID=America/Chicago:20230404T130000
DTEND;TZID=America/Chicago:20230404T150000
DTSTAMP:20230403T213646Z
URL:https://dev.dscc.uic.edu/events/webinar-child-abuse-prevention-month-k
 ickoff-building-together-prevention-in-partnership/
SUMMARY:Webinar - Child Abuse Prevention Month Kickoff "Building Together: 
 Prevention in Partnership"
DESCRIPTION:&nbsp\;\n\nA free Child Abuse Prevention Month kickoff and trai
 ning event with advocate and survivor Kim White\n\nJoin Prevent Child Abus
 e Illinois for this virtual kickoff event and training "Building Together:
  Prevention in Partnership" on April 4 from 1 to 3 p.m.\n\nSexual Assault 
 Advocate Case Manager Kim White will share her personal journey and the re
 alities of human trafficking. Kim will discuss:\n\n 	The effect of human t
 rafficking on survivors’ mental and physical health\n 	How agencies supp
 orted her on the road to freedom\n 	How organizations in our communities c
 an better connect with and serve human trafficking victims\n\nKim is also 
 a member of Citizens Against Child Abuse and The East Central Human Traffi
 cking Taskforce.\n\nGuest speakers will also include:\n\n 	Illinois Depart
 ment of Children and Family Services Acting Executive Deputy Director Tier
 ney Stutz\n 	Prevent Child Abuse Illinois Executive Director Denise McCaff
 rey\n 	Hospital Sisters Health System Chief Operating Officer Kathy Donova
 n\n\nSee the "Building Together: Prevention in Partnership" flyer for more
  details.\n\nYou can register online for this free training.
CATEGORIES:Special Event,Training
END:VEVENT
BEGIN:VTIMEZONE
TZID:America/Chicago
X-LIC-LOCATION:America/Chicago
BEGIN:DAYLIGHT
DTSTART:20230312T030000
TZOFFSETFROM:-0600
TZOFFSETTO:-0500
TZNAME:CDT
END:DAYLIGHT
END:VTIMEZONE
END:VCALENDAR