BEGIN:VCALENDAR
VERSION:2.0
PRODID:-//wp-events-plugin.com//7.2.3.1//EN
TZID:America/Chicago
X-WR-TIMEZONE:America/Chicago
BEGIN:VEVENT
UID:1100@dev.dscc.uic.edu
DTSTART;TZID=America/Chicago:20180821T130000
DTEND;TZID=America/Chicago:20180821T130000
DTSTAMP:20180816T152839Z
URL:https://dev.dscc.uic.edu/events/webinar-childhood-hearing-loss-individ
 ualized-intervention-and-parent-choice/
SUMMARY:Webinar: “Childhood Hearing Loss: Individualized Intervention and
  Parent Choice”
DESCRIPTION:&nbsp\;\n\nWebinar for anyone who provides support and/or ser
 vices to children who are hard-of-hearing or deaf and their families as we
 ll as the families themselves.\n\nOn Aug. 21\, the National Center for 
 Hearing Assessment and Management will host the webinar “Childhood Hear
 ing Loss: Individualized Intervention and Parent Choice\,” presented by 
 Terry E. Foust and Rene Averitt-Sanzone.\n\nThis webinar will help partici
 pants understand more fully the diversity of the population of children wh
 o are hard-of-hearing or deaf\, the systems that exist that contribute to 
 the provision of early identification and early intervention\, the various
  communication/educational intervention options for identified children an
 d some of the opinions families are likely to encounter as they explore va
 rious options. Strategies will be discussed for how to honor and activate 
 parents as the key decision-makers for their child and to ensure that thei
 r services are truly individualized and reflective of their hopes and drea
 ms for their child and family.\n\nAfter attending the webinar\, participan
 ts will be able to:\n\n 	Describe the diversity of the hard-of-hearing and
  deaf population and its relevance to individualized service and education
 al plans and programs.\n 	Describe the incidence of hearing loss during ea
 rly childhood and the importance of ongoing screening.\n 	Describe interve
 ntion options.\n 	Describe how parent choice and decision making can be su
 pported.\n 	Describe how to access resources to support parents' and profe
 ssionals’ need for information.\n\nTo register\, visit www.surveygizmo.c
 om/s3/4449286/Childhood-Hearing-Loss-Intervention-and-Parent-Choice.\n\nLi
 ve captioning will also be provided\; a link will be available for caption
 ing upon logging into the webinar.
CATEGORIES:Webinar
END:VEVENT
BEGIN:VTIMEZONE
TZID:America/Chicago
X-LIC-LOCATION:America/Chicago
BEGIN:DAYLIGHT
DTSTART:20180311T030000
TZOFFSETFROM:-0600
TZOFFSETTO:-0500
TZNAME:CDT
END:DAYLIGHT
END:VTIMEZONE
END:VCALENDAR