BEGIN:VCALENDAR
VERSION:2.0
PRODID:-//wp-events-plugin.com//7.2.3.1//EN
TZID:America/Chicago
X-WR-TIMEZONE:America/Chicago
BEGIN:VEVENT
UID:4703@dev.dscc.uic.edu
DTSTART;TZID=America/Chicago:20241010T190000
DTEND;TZID=America/Chicago:20241010T200000
DTSTAMP:20241008T194426Z
URL:https://dev.dscc.uic.edu/events/webinar-congenital-heart-disease-chd-w
 ise-mental-health-series-ptsd/
SUMMARY:Webinar - Congenital Heart Disease (CHD) Wise "Mental Health Series
 : PTSD"
DESCRIPTION:Free webinar series focusing on mental health challenges impact
 ing affecting individuals living with congenital heart disease and their c
 aregivers\n\nConquering Congenital Heart Disease (CHD)  and the Ollie Hin
 kle Foundation will kick off the CHD Wise Mental Health webinar series wit
 h "Post-Traumatic Stress Disorder (PTSD)" on Oct. 10 from 7 to 8 p.m.\n\nT
 he series will discuss mental health within the CHD community.\n\nThis ses
 sion will focus on PTSD and how to:\n\n 	Navigate PTSD as a CHD patient an
 d as a caregiver\n 	Support people living with CHD and caregivers\n\nRegis
 ter for the "Mental Health Series: PTSD" on Zoom. Registration is required
 .\n\nThe webinar series will be recorded.
CATEGORIES:Webinar
END:VEVENT
BEGIN:VTIMEZONE
TZID:America/Chicago
X-LIC-LOCATION:America/Chicago
BEGIN:DAYLIGHT
DTSTART:20240310T030000
TZOFFSETFROM:-0600
TZOFFSETTO:-0500
TZNAME:CDT
END:DAYLIGHT
END:VTIMEZONE
END:VCALENDAR