BEGIN:VCALENDAR
VERSION:2.0
PRODID:-//wp-events-plugin.com//7.2.3.1//EN
TZID:America/Chicago
X-WR-TIMEZONE:America/Chicago
BEGIN:VEVENT
UID:3391@dev.dscc.uic.edu
DTSTART;TZID=America/Chicago:20230807T120000
DTEND;TZID=America/Chicago:20230807T131500
DTSTAMP:20230802T224046Z
URL:https://dev.dscc.uic.edu/events/webinar-consejos-y-apoyos-estructurado
 s-para-la-casa-y-la-escuela/
SUMMARY:Webinar - "Consejos y Apoyos Estructurados Para la Casa y la Escuel
 a"
DESCRIPTION:&nbsp\;\n\nA free webinar in Spanish providing tips and tools f
 or home and school for parents/caregivers and professionals of children wi
 th autism and learning differences\n\nThe Resource Center for Autism and D
 evelopmental Delays (RCADD) is hosting "Consejos y Apoyos Estructurados Pa
 ra la Casa y la Escuela" for Spanish speakers on Aug. 7 from 12 to 1:15 p.
 m.\n\nParticipants will learn about strategies for implementing social goa
 ls and leisure activities at home and at school.\n\nSee the webinar flyer 
 in Spanish for more details and upcoming webinars.\n\nSign up online to at
 tend.\n\nFor more information\, contact Nora Stillwell at norajs@uic.edu.\
 n\nEste taller presenta estrategias para la casa y el salón de escuela pa
 ra asistir con las metas sociales\, y el ocio de un niño con autismo o re
 trasos en el desarrollo. Este taller es para padres\, educadores y profesi
 onistas.\n\nRegístrese para el seminario web y obtenga más detalles.\n\n
 Una serie de entrenamientos virtuales gratuita en español para familias y
  profesionales.
CATEGORIES:Training,Webinar
END:VEVENT
BEGIN:VTIMEZONE
TZID:America/Chicago
X-LIC-LOCATION:America/Chicago
BEGIN:DAYLIGHT
DTSTART:20230312T030000
TZOFFSETFROM:-0600
TZOFFSETTO:-0500
TZNAME:CDT
END:DAYLIGHT
END:VTIMEZONE
END:VCALENDAR