BEGIN:VCALENDAR
VERSION:2.0
PRODID:-//wp-events-plugin.com//7.2.3.1//EN
TZID:America/Chicago
X-WR-TIMEZONE:America/Chicago
BEGIN:VEVENT
UID:2126@dev.dscc.uic.edu
DTSTART;TZID=America/Chicago:20220315T100000
DTEND;TZID=America/Chicago:20220315T113000
DTSTAMP:20220311T235943Z
URL:https://dev.dscc.uic.edu/events/webinar-customized-employment-webinar-
 series-for-individuals-with-developmental-disabilities-families/
SUMMARY:Webinar - "Customized Employment Webinar Series for Individuals wit
 h Developmental Disabilities & Families"
DESCRIPTION:&nbsp\;\n\nA free webinar series on the importance\, essential 
 elements and processes of Customized Employment (CE) for individuals with 
 developmental disabilities and assuring employment for all\n\nThe Illinois
  Council on Developmental Disabilities (ICDD) and training experts from Ma
 rc Gold &amp\; Associates (MG&amp\;A) are hosting the "Customized Employme
 nt Webinar Series for Individuals with Developmental Disabilities &amp\; F
 amilies" on March 15 from 10 - 11:30 a.m. This is the third session in thi
 s trio of webinars.\n\nCustomized Employment (CE) is a critical concept fo
 r assuring employment for all. CE requires learning when a person is at th
 eir best and translating that information into an integrated community wor
 k environment that matches and meets:\n\n 	The specific abilities of the i
 ndividual with a significant disability\n 	The business needs of the emplo
 yer\n\nWebinar #3 will build off the overview and fundamental concepts tha
 t were discussed in the first two sessions and provide additional key insi
 ghts for the potential employment seeker and their family on:\n\n 	CE proc
 esses\, activities and documentation\n 	The person-centered planning aspec
 ts of CE\n 	The important role that families have in the CE process\n\nReg
 ister for Webinar #3.  There is no charge for any of the sessions.\n\nThe
  first two webinars are available on the ICDD website at:\n\n 	Webinar 1 -
  Aug. 25\, 2021\n 	Webinar 2 - Dec. 15\, 2021\n
CATEGORIES:Webinar
END:VEVENT
BEGIN:VTIMEZONE
TZID:America/Chicago
X-LIC-LOCATION:America/Chicago
BEGIN:DAYLIGHT
DTSTART:20220313T030000
TZOFFSETFROM:-0600
TZOFFSETTO:-0500
TZNAME:CDT
END:DAYLIGHT
END:VTIMEZONE
END:VCALENDAR