BEGIN:VCALENDAR
VERSION:2.0
PRODID:-//wp-events-plugin.com//7.2.3.1//EN
TZID:America/Chicago
X-WR-TIMEZONE:America/Chicago
BEGIN:VEVENT
UID:3723@dev.dscc.uic.edu
DTSTART;TZID=America/Chicago:20231115T130000
DTEND;TZID=America/Chicago:20231115T140000
DTSTAMP:20231108T140747Z
URL:https://dev.dscc.uic.edu/events/webinar-employment-options-for-transit
 ion-age-youth-looking-outside-the-box/
SUMMARY:Webinar - "Employment Options for Transition-Age Youth: Looking Out
 side the Box"
DESCRIPTION:&nbsp\;\n\nA free webinar for transition-age youth and their fa
 milies on how to explore "outside the box" for employment ideas\n\nFamily 
 Matters Parent Training and Information Center is hosting "Employment Opti
 ons for Transition-Age Youth: Looking Outside the Box" on Nov. 15 from 1 t
 o 2 p.m.\n\nAngels for Higher helps individuals with Down syndrome work as
  greeters in fully inclusive environments\, such as athletic venues\, univ
 ersity campuses\, and performing arts centers.\n\nJoin Angels for Higher
 ’s Founder Robert Hendershot to learn more about:\n\n 	The Angels for Hi
 gher non-profit organization\n 	Ideas for looking outside the box for empl
 oyment opportunities for individuals with disabilities\n\nSee the flyer fo
 r more details.\n\nRegister online to attend the webinar.
CATEGORIES:Webinar
END:VEVENT
BEGIN:VTIMEZONE
TZID:America/Chicago
X-LIC-LOCATION:America/Chicago
BEGIN:STANDARD
DTSTART:20231105T010000
TZOFFSETFROM:-0500
TZOFFSETTO:-0600
TZNAME:CST
END:STANDARD
END:VTIMEZONE
END:VCALENDAR