BEGIN:VCALENDAR
VERSION:2.0
PRODID:-//wp-events-plugin.com//7.2.3.1//EN
TZID:America/Chicago
X-WR-TIMEZONE:America/Chicago
BEGIN:VEVENT
UID:3338@dev.dscc.uic.edu
DTSTART;TZID=America/Chicago:20230321T190000
DTEND;TZID=America/Chicago:20230321T200000
DTSTAMP:20230315T221708Z
URL:https://dev.dscc.uic.edu/events/webinar-grieving-in-relation-to-others
 /
SUMMARY:Webinar - Grieving in Relation to Others
DESCRIPTION:&nbsp\;\n\nA free webinar for families on grief\, the many form
 s it can take\, and experiencing grief in relation to others\n\nJoin the C
 ourageous Parents Network (CPN) for "Grieving in Relation to Others" on Ma
 rch 21 from 7 to 8 p.m.\n\nGrief is a shared experience for the family. Ho
 wever\, each member will likely experience and process grief in different 
 ways\, over different periods of time and in varied physical and emotional
  forms. Keeping relationships healthy and strong is hard work\, especially
  in bereavement.\n\nThis session will include a panel of bereaved parents 
 sharing their experiences with grief.  Grief and Bereavement Specialist T
 aryn Schuelke will lead the discussion. Topics will include:\n\n 	The expe
 rience of grief in relation to how others receive it\n 	Grieving in partne
 rship with a spouse or partner and extended family members\n 	Ways to unde
 rstand and support the surviving siblings\n 	Grief and work life\n 	Inviti
 ng others to hold space with you\n\nVisit the "Grieving in Relation to Oth
 ers" registration page to sign up and find more details.
CATEGORIES:Webinar
END:VEVENT
BEGIN:VTIMEZONE
TZID:America/Chicago
X-LIC-LOCATION:America/Chicago
BEGIN:DAYLIGHT
DTSTART:20230312T030000
TZOFFSETFROM:-0600
TZOFFSETTO:-0500
TZNAME:CDT
END:DAYLIGHT
END:VTIMEZONE
END:VCALENDAR