BEGIN:VCALENDAR
VERSION:2.0
PRODID:-//wp-events-plugin.com//7.2.3.1//EN
TZID:America/Chicago
X-WR-TIMEZONE:America/Chicago
BEGIN:VEVENT
UID:2671@dev.dscc.uic.edu
DTSTART;TZID=America/Chicago:20220923T114500
DTEND;TZID=America/Chicago:20220923T130000
DTSTAMP:20220921T220314Z
URL:https://dev.dscc.uic.edu/events/webinar-helping-our-kids-after-the-pan
 demic-tips-and-tricks-to-keep-calm-at-home/
SUMMARY:Webinar - "Helping our Kids After the Pandemic: Tips and Tricks to 
 Keep Calm at Home"
DESCRIPTION:&nbsp\;\n\nA free webinar series for parents and health and hum
 an service providers on helping our kids after the pandemic\n\nThe We are 
 Parents webinar series\,  hosted by the McLean County Health Department a
 nd Carle\,  will kick off with "Helping our Kids After the Pandemic: Tips
  and Tricks to Keep Calm at Home" on Sept. 23 from 12 to 12:50 p.m.\n\nThe
  pandemic has impacted everyone in some way. Challenges such as isolation\
 , loss of loved ones\, school interruptions\, financial worries and confli
 cts with loved ones have led to more mental health issues for adults and c
 hildren. This series will help parents navigate what they can do to help 
 themselves and their kids in the aftermath.\n\nThis first webinar will hel
 p participants recognize how the pandemic has affected our relationships a
 nd how we can help our children be stronger as we move into the post-pande
 mic world.\n\nThe link will be live at 11:45 a.m. for individuals who want
  to join early for informal networking with parents and other interested p
 articipants.\n\nRegister for "Helping our Kids After the Pandemic". You w
 ill receive an email confirmation with the link for the webinar within a w
 eek.\n\nParticipants may join when they can or leave the webinar as their 
 schedule allows.
CATEGORIES:Webinar
END:VEVENT
BEGIN:VTIMEZONE
TZID:America/Chicago
X-LIC-LOCATION:America/Chicago
BEGIN:DAYLIGHT
DTSTART:20220313T030000
TZOFFSETFROM:-0600
TZOFFSETTO:-0500
TZNAME:CDT
END:DAYLIGHT
END:VTIMEZONE
END:VCALENDAR