BEGIN:VCALENDAR
VERSION:2.0
PRODID:-//wp-events-plugin.com//7.2.3.1//EN
TZID:America/Chicago
X-WR-TIMEZONE:America/Chicago
BEGIN:VEVENT
UID:1256@dev.dscc.uic.edu
DTSTART;TZID=America/Chicago:20190327T123000
DTEND;TZID=America/Chicago:20190327T123000
DTSTAMP:20190321T191821Z
URL:https://dev.dscc.uic.edu/events/webinar-how-to-make-reading-time-a-mea
 ningful-moment-with-your-child/
SUMMARY:Webinar: How to Make Reading Time a Meaningful Moment With Your Chi
 ld
DESCRIPTION:&nbsp\;\n\nLearn how to use Listening and Spoken Language strat
 egies to turn reading time into your child's favorite time.\n\nReading at 
 home can be fun and engaging! Join Hear to Learn to find out how to use L
 istening and Spoken Language strategies such as expansion\, auditory closu
 re\, auditory first and more to turn reading time into your child’s favo
 rite time.\n\nHear to Learn is hosting the webinar\, “How to make readi
 ng time a meaningful moment with your child\,” on March 27 at 12:30 p.m.
 \n\nThe webinar will give examples of how to use each strategy within a b
 ook and how to adapt these strategies for different age groups.\n\nAt the 
 end of this session\, participants will be able to:\n\n 	Review the import
 ance of literacy for children who are deaf and hard of hearing.\n 	Use Lis
 tening and Spoken Language (LSL) strategies during story time.\n 	Adapt th
 e LSL strategies based on different age groups.\n 	Learn how to select a g
 ood book.\n\nThe presenter is Kaytie Cook\,  M.Ed.\n\nTo register\, visit
  https://usu.co1.qualtrics.com/jfe/form/SV_3yECPhk1phd4w3H.\n\nThe same we
 binar will be presented in Spanish at 1:30 p.m. on March 27. To register f
 or the Spanish webinar and for more information\, visit https://usu.co1.qu
 altrics.com/jfe/form/SV_8fdDo3ySavvvrQp.\n\nFor information on future webi
 nars\, visit the Hear to Learn website at www.heartolearn.org/communities
 /learning-together.html.
CATEGORIES:Webinar
END:VEVENT
BEGIN:VTIMEZONE
TZID:America/Chicago
X-LIC-LOCATION:America/Chicago
BEGIN:DAYLIGHT
DTSTART:20190310T030000
TZOFFSETFROM:-0600
TZOFFSETTO:-0500
TZNAME:CDT
END:DAYLIGHT
END:VTIMEZONE
END:VCALENDAR