BEGIN:VCALENDAR
VERSION:2.0
PRODID:-//wp-events-plugin.com//7.2.3.1//EN
TZID:America/Chicago
X-WR-TIMEZONE:America/Chicago
BEGIN:VEVENT
UID:2084@dev.dscc.uic.edu
DTSTART;TZID=America/Chicago:20220131T180000
DTEND;TZID=America/Chicago:20220131T193000
DTSTAMP:20220113T171236Z
URL:https://dev.dscc.uic.edu/events/webinar-how-to-pick-the-right-treatmen
 t-and-the-right-therapist-a-consumers-guide-to-child-therapy/
SUMMARY:Webinar - "How to Pick the Right Treatment and the Right Therapist:
  A Consumer's Guide to Child Therapy"
DESCRIPTION:&nbsp\;\n\nA free webinar to help families better navigate the 
 process of finding the right treatment and choosing the right therapist fo
 r their child and family\n\nIllinois StarNet Region II invites you to "How
  to Pick the Right Treatment and the Right Therapist: A Consumer's Guide t
 o Child Therapy" on Jan. 31 from 6 - 7:30 p.m.\n\nFinding the right treatm
 ent and the right therapist for your child and your family can be a daunti
 ng task\, especially in the pandemic era.\n\nDr. Steven Kurtz\, an interna
 tional authority on effective treatments for children\, youth and families
  will help participants understand the process involved in identifying wel
 l-supported treatments and making sure that the family's fit with the ther
 apist is a good one.\n\nHe will navigate the maze of potential treatments 
 and therapists using a variety of examples and provide tips and informatio
 n on:\n\n 	Searching for research-supported treatments\n 	Why research sup
 port is important when choosing a treatment\n 	Characteristics to look for
  in a provider\n\nDr. Kurtz also will discuss interesting and novel treat
 ments that are "not ready for prime time" in terms of research support eve
 n though they sound like they should work.\n\nRegister online to attend.
CATEGORIES:Webinar
END:VEVENT
BEGIN:VTIMEZONE
TZID:America/Chicago
X-LIC-LOCATION:America/Chicago
BEGIN:STANDARD
DTSTART:20211107T010000
TZOFFSETFROM:-0500
TZOFFSETTO:-0600
TZNAME:CST
END:STANDARD
END:VTIMEZONE
END:VCALENDAR