BEGIN:VCALENDAR
VERSION:2.0
PRODID:-//wp-events-plugin.com//7.2.3.1//EN
TZID:America/Chicago
X-WR-TIMEZONE:America/Chicago
BEGIN:VEVENT
UID:1954@dev.dscc.uic.edu
DTSTART;TZID=America/Chicago:20211021T170000
DTEND;TZID=America/Chicago:20211021T190000
DTSTAMP:20211001T151921Z
URL:https://dev.dscc.uic.edu/events/webinar-imagine-the-possibilities/
SUMMARY:Webinar - "Imagine the Possibilities"
DESCRIPTION:&nbsp\;\n\nA free webinar on inclusion\, building confidence an
 d work skills\, community employment and how to partner with employers to 
 successfully impact a change of person-centered practices and employment o
 f people with disabilities\n\nJoin the Ray Graham Association for "Imagin
 e the Possibilities" on Oct. 21 from 5 - 7 p.m.\n\nAlthough the idea of in
 clusion and community employment are gaining ground across the country\, s
 ome people\, especially those with more significant disabilities\, still d
 o not see community services and employment as viable options.\n\nSpend an
  hour imagining the possibilities and learning how you can support and imp
 act a change in person-centered practices and employment for people with d
 isabilities.\n\nPresenters Sara Murphy with WorkLink\, Pride Industries an
 d a self-advocate will share about their approach and success in supportin
 g\, securing employment and partnering with employers. Participants will h
 ear about how:\n\n 	Using a  “strengths\, not deficits” approach is c
 hanging the way people see themselves and working\n 	Overcoming employment
  barriers and having a job has changed their life\n 	Pride Industries is f
 ollowing its passion to hire people with disabilities and ways to connect 
 with them if you're seeking employment\n\nFor more information\, click her
 e for a copy of the Speaker Series flyer.\n\nThis webinar is free. Continu
 ing education units (CEUs) are available.\n\nTo register\, please call (63
 0) 620-2222 or contact Janki Patel at JankiP@Raygraham.org\n\nParticipants
  will receive a Zoom link 24-48 hours prior to the session.\n\n&nbsp\;
CATEGORIES:Webinar
END:VEVENT
BEGIN:VTIMEZONE
TZID:America/Chicago
X-LIC-LOCATION:America/Chicago
BEGIN:DAYLIGHT
DTSTART:20210314T030000
TZOFFSETFROM:-0600
TZOFFSETTO:-0500
TZNAME:CDT
END:DAYLIGHT
END:VTIMEZONE
END:VCALENDAR