BEGIN:VCALENDAR
VERSION:2.0
PRODID:-//wp-events-plugin.com//7.2.3.1//EN
TZID:America/Chicago
X-WR-TIMEZONE:America/Chicago
BEGIN:VEVENT
UID:1569@dev.dscc.uic.edu
DTSTART;TZID=America/Chicago:20200826T180000
DTEND;TZID=America/Chicago:20200826T190000
DTSTAMP:20200821T170954Z
URL:https://dev.dscc.uic.edu/events/webinar-la-clave-para-el-exito-academi
 co-esta-en-la-comunicacion/
SUMMARY:Webinar - "La clave para el éxito académico está en la comunicac
 ión"
DESCRIPTION:&nbsp\;\n\nFree presentation in Spanish\n\nThe University of Ch
 icago Medical Center is hosting a live webinar series to help support deaf
  and hard-of-hearing children’s return to the classroom.\n\n"The key to 
 academic success is in communication" webinar is scheduled for 6 p.m. Aug.
  26.\n\nEva Lopez and Marianna Rivera will present the link between commun
 ication skills and academics.\n\nVisit the webinar registration webpage to
  sign up for this free event.\n\nPlease contact Pediatric.HearingLoss@ucho
 spitals.edu or (773) 702-8182 with questions.\n\nAll presentations will be
  captioned.
CATEGORIES:Webinar
END:VEVENT
BEGIN:VTIMEZONE
TZID:America/Chicago
X-LIC-LOCATION:America/Chicago
BEGIN:DAYLIGHT
DTSTART:20200308T030000
TZOFFSETFROM:-0600
TZOFFSETTO:-0500
TZNAME:CDT
END:DAYLIGHT
END:VTIMEZONE
END:VCALENDAR