BEGIN:VCALENDAR
VERSION:2.0
PRODID:-//wp-events-plugin.com//7.2.3.1//EN
TZID:America/Chicago
X-WR-TIMEZONE:America/Chicago
BEGIN:VEVENT
UID:2598@dev.dscc.uic.edu
DTSTART;TZID=America/Chicago:20221013T180000
DTEND;TZID=America/Chicago:20221013T190000
DTSTAMP:20220921T205901Z
URL:https://dev.dscc.uic.edu/events/webinar-management-of-hearing-loss-ass
 ociated-with-cleft-lip-palate-and-other-craniofacial-conditions/
SUMMARY:Webinar - "Management of Hearing Loss Associated with Cleft Lip/Pal
 ate and Other Craniofacial Conditions"
DESCRIPTION:&nbsp\;\n\nA free webinar series designed for families of child
 ren with craniofacial differences\, caregivers and healthcare providers\n\
 nJoin myFace for "Management of Hearing Loss Associated with Cleft Lip/Pal
 ate and Other Craniofacial Conditions" on Oct. 13 from 6 to 7 p.m.\n\nThis
  webinar is part of the Transforming Lives Webinar Series\, which explores
  medical\, insurance and other related issues and how they impact people w
 ith craniofacial differences.\n\nDr. Randall Bly and Pediatric Audiologist
  Aijiana Zanders with the Seattle Children’s Craniofacial Center will di
 scuss the causes and management of hearing loss associated with various cr
 aniofacial conditions. Other topics will include:\n\n 	Non-surgical and su
 rgical options\n 	The importance of early intervention\n\nInformation abou
 t the speakers is available at the registration link.\n\nIf you have quest
 ions for the speakers\, please contact Sandy@myFace.org.
CATEGORIES:Webinar
END:VEVENT
BEGIN:VTIMEZONE
TZID:America/Chicago
X-LIC-LOCATION:America/Chicago
BEGIN:DAYLIGHT
DTSTART:20220313T030000
TZOFFSETFROM:-0600
TZOFFSETTO:-0500
TZNAME:CDT
END:DAYLIGHT
END:VTIMEZONE
END:VCALENDAR