BEGIN:VCALENDAR
VERSION:2.0
PRODID:-//wp-events-plugin.com//7.2.3.1//EN
TZID:America/Chicago
X-WR-TIMEZONE:America/Chicago
BEGIN:VEVENT
UID:1993@dev.dscc.uic.edu
DTSTART;TZID=America/Chicago:20211122T180000
DTEND;TZID=America/Chicago:20211122T193000
DTSTAMP:20211110T213640Z
URL:https://dev.dscc.uic.edu/events/webinar-plan-your-path-puns-beyond-par
 t-3/
SUMMARY:Webinar - "Plan Your Path – PUNS & Beyond" Part 3
DESCRIPTION:&nbsp\;\n\nA free webinar series for families and self-advocate
 s who are beginning to explore adult developmental disability supports in 
 Illinois\n\nJoin the Ligas Family Advocate Team at The Arc of Illinois for
  the last session in this three-part series\, "Plan Your Path – PUNS &am
 p\; Beyond" on Nov. 22 from 6 - 7:30 p.m.\n\nPUNS stands for the Prioritiz
 ation of Urgency of Need for Services.\n\nThis webinar is the final sessio
 n in this three-part series aimed at helping families and self-advocates b
 etter understand PUNS and the planning process.\n\nIn part three\, partici
 pants will cover creative problem-solving and explore how families have su
 ccessfully used funding.\n\nRegister for the Nov. 22 session (Part 3) onli
 ne.\n\nRegistration is required.
CATEGORIES:Webinar
END:VEVENT
BEGIN:VTIMEZONE
TZID:America/Chicago
X-LIC-LOCATION:America/Chicago
BEGIN:STANDARD
DTSTART:20211107T010000
TZOFFSETFROM:-0500
TZOFFSETTO:-0600
TZNAME:CST
END:STANDARD
END:VTIMEZONE
END:VCALENDAR