BEGIN:VCALENDAR
VERSION:2.0
PRODID:-//wp-events-plugin.com//7.2.3.1//EN
TZID:America/Chicago
X-WR-TIMEZONE:America/Chicago
BEGIN:VEVENT
UID:3572@dev.dscc.uic.edu
DTSTART;TZID=America/Chicago:20230729T100000
DTEND;TZID=America/Chicago:20230729T120000
DTSTAMP:20230725T194402Z
URL:https://dev.dscc.uic.edu/events/webinar-special-education-navigating-t
 he-iep-process/
SUMMARY:Webinar - "Special Education: Navigating the IEP Process"
DESCRIPTION:&nbsp\;\n\nFree webinar providing parents with an overview of t
 he Individualized Education Program (IEP) and how to navigate the IEP meet
 ing\n\nJoin the Family Resource Center on Disabilities (FRCD) for "Special
  Education: Navigating the IEP" on July 29 from 10 a.m. to 12 p.m.\n\nPick
  up tips for being an effective participant in your child's IEP.\n\nPartic
 ipants will learn about navigating the IEP meeting and the important role 
 parents play on the IEP team.\n\nThe webinar will also cover:\n\n 	The eva
 luation process\n 	Least restrictive environment (LRE)\n 	Procedural safeg
 uards\n 	Preparing for your child's IEP meeting\n 	Next steps and what to 
 do after your IEP meeting\n\nSign up online to attend.
CATEGORIES:Webinar
END:VEVENT
BEGIN:VTIMEZONE
TZID:America/Chicago
X-LIC-LOCATION:America/Chicago
BEGIN:DAYLIGHT
DTSTART:20230312T030000
TZOFFSETFROM:-0600
TZOFFSETTO:-0500
TZNAME:CDT
END:DAYLIGHT
END:VTIMEZONE
END:VCALENDAR