BEGIN:VCALENDAR
VERSION:2.0
PRODID:-//wp-events-plugin.com//7.2.3.1//EN
TZID:America/Chicago
X-WR-TIMEZONE:America/Chicago
BEGIN:VEVENT
UID:1611@dev.dscc.uic.edu
DTSTART;TZID=America/Chicago:20201021T120000
DTEND;TZID=America/Chicago:20201021T140000
DTSTAMP:20201001T134811Z
URL:https://dev.dscc.uic.edu/events/webinar-special-education-what-parents
 -need-to-know-during-covid-19/
SUMMARY:Webinar - "Special Education: What Parents Need to Know During COVI
 D-19"
DESCRIPTION:&nbsp\;\n\nFree Lunch &amp\; Learn Webinar about the IEP proces
 s and how to navigate it during the pandemic.\n\nThe Family Resource Cente
 r on Disabilities' Parent Training and Information Center is presenting a 
 Lunch &amp\; Learn Webinar on "Special Education: What Parents Need to Kno
 w During COVID-19."\n\nIt is scheduled for 12 to 2 p.m. Oct. 21.\n\nThe we
 binar will provide an overview of the individualized education program (IE
 P) process and how to navigate it during the COVID-19 pandemic.\n\nThe pre
 senters will discuss:\n\n 	The evaluation process\n 	IEPs\n 	Least restric
 tive environment (LRE)\n 	Procedural safeguards\n 	Special education and r
 emote learning\n\nClick on the webinar registration page to sign up.
CATEGORIES:Education,Webinar
END:VEVENT
BEGIN:VTIMEZONE
TZID:America/Chicago
X-LIC-LOCATION:America/Chicago
BEGIN:DAYLIGHT
DTSTART:20200308T030000
TZOFFSETFROM:-0600
TZOFFSETTO:-0500
TZNAME:CDT
END:DAYLIGHT
END:VTIMEZONE
END:VCALENDAR