BEGIN:VCALENDAR
VERSION:2.0
PRODID:-//wp-events-plugin.com//7.2.3.1//EN
TZID:America/Chicago
X-WR-TIMEZONE:America/Chicago
BEGIN:VEVENT
UID:1575@dev.dscc.uic.edu
DTSTART;TZID=America/Chicago:20200908T120000
DTEND;TZID=America/Chicago:20200908T130000
DTSTAMP:20200821T171452Z
URL:https://dev.dscc.uic.edu/events/webinar-the-role-and-mission-of-the-gr
 eat-lakes-ada-center/
SUMMARY:Webinar - "The Role and Mission of the Great Lakes ADA Center"
DESCRIPTION:&nbsp\;\n\nLearn about the services and resources available fro
 m the Great Lakes ADA Center\n\nThe Arc of Illinois' Illinois Life Span Pr
 ogram is hosting a Sept. 8 webinar on "The Role and Mission of the Great L
 akes ADA Center."\n\nThis session will provide participants with informati
 on about the services and resources available from the Great Lakes ADA Cen
 ter\, a member of the ADA National Network.\n\nFollowing the session\, par
 ticipants will:\n\n 	Understand the mission of the Great Lakes Center\n 	K
 now the core services provided by the ADA Center\n 	Gain a basic understan
 ding of the Americans with Disabilities Act (ADA)\n\nVisit the webinar reg
 istration webpage to sign up.  After registering\, you will receive a con
 firmation email with information about joining the webinar.\n\nPresenters 
 for this webinar are:\n\n 	Claudia Diaz\, Associate Director of the Great 
 Lakes ADA Center\n 	Peter Berg\, Project Coordinator of Technical Assistan
 ce\, Great Lakes ADA Center\n\nContact Deb Fornoff at deb@thearcofil.org w
 ith any questions.
CATEGORIES:Webinar
END:VEVENT
BEGIN:VTIMEZONE
TZID:America/Chicago
X-LIC-LOCATION:America/Chicago
BEGIN:DAYLIGHT
DTSTART:20200308T030000
TZOFFSETFROM:-0600
TZOFFSETTO:-0500
TZNAME:CDT
END:DAYLIGHT
END:VTIMEZONE
END:VCALENDAR