BEGIN:VCALENDAR
VERSION:2.0
PRODID:-//wp-events-plugin.com//7.2.3.1//EN
TZID:America/Chicago
X-WR-TIMEZONE:America/Chicago
BEGIN:VEVENT
UID:1460@dev.dscc.uic.edu
DTSTART;TZID=America/Chicago:20200625T110000
DTEND;TZID=America/Chicago:20200625T120000
DTSTAMP:20200527T212358Z
URL:https://dev.dscc.uic.edu/events/webinar-understanding-related-services
 /
SUMMARY:Webinar: "Understanding Related Services"
DESCRIPTION:&nbsp\;\n\nFree webinar on the different types of related servi
 ces available to students with disabilities.\n\nSome students with disabil
 ities need related services in order to benefit from their education.\n\nI
 n this webinar from Family Matters Parent Training &amp\; Information Cent
 er\,  participants will learn about:\n\n 	The different types of related 
 services that may be available to a student with a disability.\n 	How to m
 ake a request for a related service.\n 	What to do if your child’s relat
 ed service is discontinued.\n\nThe webinar is scheduled for 11 a.m. June 2
 5.\n\nVisit the webinar registration webpage to sign up.
CATEGORIES:Education,Webinar
END:VEVENT
BEGIN:VTIMEZONE
TZID:America/Chicago
X-LIC-LOCATION:America/Chicago
BEGIN:DAYLIGHT
DTSTART:20200308T030000
TZOFFSETFROM:-0600
TZOFFSETTO:-0500
TZNAME:CDT
END:DAYLIGHT
END:VTIMEZONE
END:VCALENDAR