BEGIN:VCALENDAR
VERSION:2.0
PRODID:-//wp-events-plugin.com//7.2.3.1//EN
TZID:America/Chicago
X-WR-TIMEZONE:America/Chicago
BEGIN:VEVENT
UID:1967@dev.dscc.uic.edu
DTSTART;TZID=America/Chicago:20211117T120000
DTEND;TZID=America/Chicago:20211117T130000
DTSTAMP:20211027T184959Z
URL:https://dev.dscc.uic.edu/events/webinar-using-trauma-informed-practice
 -with-individuals-with-disabilities-who-have-experienced-human-trafficking
 /
SUMMARY:Webinar - "Using Trauma-Informed Practice With Individuals With Dis
 abilities Who Have Experienced Human Trafficking"
DESCRIPTION:&nbsp\;\n\nA webinar for professionals and clinicians who want 
 to learn about providing trauma-informed care to people with disabilities 
 who have experienced human trafficking\n\nThe University of Illinois Chica
 go's Institute on Disability and Human Development (IDHD)\, The Autism Pro
 gram (TAP) and Illinois LEND (Leadership Education in Neurodevelopmental a
 nd related Disabilities) are hosting "Using Trauma-Informed Practice With 
 Individuals With Disabilities Who Have Experienced Human Trafficking" on N
 ov. 17 from 12 - 1 p.m.\n\nThis webinar will provide an overview of the in
 tersection of human trafficking and disability.\n\nSpeakers Jody Haskin\, 
 Susan Kahan and Jessica Hinman will discuss how clinicians who are worki
 ng with survivors of human trafficking need to provide care that is:\n\n 	
 Inclusive\n 	Accessible\n 	Trauma-informed\n\nIn addition\, information an
 d resources on how to provide trauma-informed services to this population 
 will be covered.\n\nThe information is applicable to disability providers 
 and human trafficking providers.\n\nSign up online to register for this we
 binar.\n\nSee the Human Trafficking and Disability Series flyer for more d
 etails.
CATEGORIES:Webinar
END:VEVENT
BEGIN:VTIMEZONE
TZID:America/Chicago
X-LIC-LOCATION:America/Chicago
BEGIN:STANDARD
DTSTART:20211107T010000
TZOFFSETFROM:-0500
TZOFFSETTO:-0600
TZNAME:CST
END:STANDARD
END:VTIMEZONE
END:VCALENDAR