BEGIN:VCALENDAR
VERSION:2.0
PRODID:-//wp-events-plugin.com//7.2.3.1//EN
TZID:America/Chicago
X-WR-TIMEZONE:America/Chicago
BEGIN:VEVENT
UID:732@dev.dscc.uic.edu
DTSTART;TZID=America/Chicago;VALUE=DATE:20170605
DTEND;TZID=America/Chicago;VALUE=DATE:20170606
DTSTAMP:20170607T194426Z
URL:https://dev.dscc.uic.edu/events/western-dupage-special-recreation-asso
 ciation-summer-camps/
SUMMARY:Western DuPage Special Recreation Association Summer Camps
DESCRIPTION:Day camp programs for kids\, teens and young adults with specia
 l needs.\n\nWestern DuPage Special Recreation Association (WDSRA) strive 
 to provide a safe place with an environment that is fun and focused on nur
 turing and developing social skills\, motor skills and community awareness
 . This summer\, campers’ daily activities will include sports\, games\, 
 camp crafts\, swimming and numerous other activities.\n\nThe camps are sch
 eduled through Aug. 4.\n\nFor the complete summer camp program listing and
  registration information\, click here.
CATEGORIES:Camp
LOCATION:Western DuPage Special Recreation Association\, 116 N. Schmale Roa
 d\, Carol Stream\, IL \, United States
GEO:41.9042749;-88.1024746
X-APPLE-STRUCTURED-LOCATION;VALUE=URI;X-ADDRESS=116 N. Schmale Road\, Carol
  Stream\, IL \, United States;X-APPLE-RADIUS=100;X-TITLE=Western DuPage Sp
 ecial Recreation Association:geo:41.9042749,-88.1024746
END:VEVENT
BEGIN:VTIMEZONE
TZID:America/Chicago
X-LIC-LOCATION:America/Chicago
BEGIN:DAYLIGHT
DTSTART:20170312T030000
TZOFFSETFROM:-0600
TZOFFSETTO:-0500
TZNAME:CDT
END:DAYLIGHT
END:VTIMEZONE
END:VCALENDAR