BEGIN:VCALENDAR
VERSION:2.0
PRODID:-//wp-events-plugin.com//7.2.3.1//EN
TZID:America/Chicago
X-WR-TIMEZONE:America/Chicago
BEGIN:VEVENT
UID:2375@dev.dscc.uic.edu
DTSTART;TZID=America/Chicago:20220611T100000
DTEND;TZID=America/Chicago:20220611T130000
DTSTAMP:20220511T174751Z
URL:https://dev.dscc.uic.edu/events/without-limits-recreation-for-all-mult
 i-sport-expo-in-elk-grove-village/
SUMMARY:Without Limits! Recreation for All Multi-Sport Expo in Elk Grove Vi
 llage
DESCRIPTION:A free multi-sport introductory event for people with disabilit
 ies to try a new sport\, learn about additional summer opportunities and b
 e part of the Adaptive Adventures community\n\nJoin Adaptive Adventures fo
 r their  "Without Limits! Recreation for All Multi-Sport Expo" on June 11
  from 10 a.m. to 1 p.m.\n\nThis multi-sport introductory event to adaptive
  sports provides a great opportunity to:\n\n 	Try a new sport\n 	Learn abo
 ut summer opportunities\n 	Meet the Adaptive Adventures team leaders and c
 ommunity members\n\nNo experience is necessary. All participants will get 
 an opportunity to rotate through sports stations and try various sports. F
 amily and friends are welcome to attend.\n\nAfterward\, stay for lunch and
  mingle with their team. All activities and food are free of charge.\n\nVi
 sit the Adaptive Adventures website to register.\n\nFor questions\, please
  contact Greg at (847) 533-2060 or Greg@adaptiveadventures.org.\n\nPlease 
 note that the weather can be fairly unpredictable. If there is lightning i
 n the area\, programming may have to stop.
ATTACH;FMTTYPE=image/jpeg:https://dev.dscc.uic.edu/wp-content/uploads/2021
 /08/Adaptive-Adventures-Logo-e1630620504854.png
CATEGORIES:Special Event
LOCATION:Busse Woods\, Higgins Road - Southwest Entrance\, Boat Launch Park
 ing Lot\, Elk Grove Village\, IL\, United States
X-APPLE-STRUCTURED-LOCATION;VALUE=URI;X-ADDRESS=Higgins Road - Southwest En
 trance\, Boat Launch Parking Lot\, Elk Grove Village\, IL\, United States;
 X-APPLE-RADIUS=100;X-TITLE=Busse Woods:geo:0,0
END:VEVENT
BEGIN:VTIMEZONE
TZID:America/Chicago
X-LIC-LOCATION:America/Chicago
BEGIN:DAYLIGHT
DTSTART:20220313T030000
TZOFFSETFROM:-0600
TZOFFSETTO:-0500
TZNAME:CDT
END:DAYLIGHT
END:VTIMEZONE
END:VCALENDAR